Workbook
Name ___kk06: #REF!
Name ___kk29: #REF!
Name __kk06: #REF!
Name __kk29: #REF!
Name _kk06: #REF!
Name _kk29: #REF!
Name Avrg: #REF!
Name avrg1: #REF!
Name jiritu: #REF!
Name KK_03: #REF!
Name kk_04: #REF!
Name KK_06: #REF!
Name kk_07: #REF!
Name KK2_3: #REF!
Name Roman_01: #REF!
Name Roman_03: #REF!
Name Roman_04: #REF!
Name Roman_06: #REF!
Name roman_09: #REF!
Name roman_11: #REF!
Name roman11: #REF!
Name Roman2_1: #REF!
Name Roman2_3: #REF!
Name roman31: #REF!
Name roman33: #REF!
Name roman4_3: #REF!
Name roman7_1: #REF!
Name roman77: #REF!
Name romann_12: #REF!
Name romann_66: #REF!
Name romann33: #REF!
Name serv: #REF!
Name serv_: #REF!
Name Serv_LIST: #REF!
Name servo1: #REF!
Name ｔａｂｉｅ＿04: #REF!
Name table_03: #REF!
Name table_06: #REF!
Name table2_3: #REF!
Name tapi2: #REF!
Name tebie_o7: #REF!
Name tebie08: #REF!
Name tebie33: #REF!
Name tebiroo: #REF!
Name teble: #REF!
Name teble_09: #REF!
Name teble77: #REF!
Name 就労継続支援Ｂ型: [1]選択肢!#REF!
Name 食事: #REF!
Name 町っ油: #REF!
Name 利用日数記入例: #REF!

Sheet 勤務形態一覧表（就労移行支援）
A1: 従業者の勤務の体制及び勤務形態一覧表 | AI1: サービス種別 | AK1: 就労移行支援
M2: 2025 | Q2: 年 | S2: 5 | U2: 月 | AI2: 事業所名
AI3: (1)記載する期間 | AK3: ４週
E4: …直接入力 | AI4: (2)予定/実績の別
E5: …プルダウン | AG5: (3)事業所における常勤の従業者が勤務すべき時間数 | AK5: 時間/週 | AM5: 時間/月
A7: No. | B7: (4)職種 | C7: (5)勤務形態 | D7: (6)氏名 | E7: (7) | AJ7: (8)勤務時間数合計 | AK7: (9)週平均の勤務時間数 | AL7: (10)兼務状況 （兼務先／兼務する職務の内容）等
E8: 第１週 | L8: 第２週 | S8: 第３週 | Z8: 第４週 | AG8: 第５週
E9: =DATE($M$2,$S$2,1) -> 45778 | F9: =DATE($M$2,$S$2,2) -> 45779 | G9: =DATE($M$2,$S$2,3) -> 45780 | H9: =DATE($M$2,$S$2,4) -> 45781 | I9: =DATE($M$2,$S$2,5) -> 45782 | J9: =DATE($M$2,$S$2,6) -> 45783 | K9: =DATE($M$2,$S$2,7) -> 45784 | L9: =DATE($M$2,$S$2,8) -> 45785 | M9: =DATE($M$2,$S$2,9) -> 45786 | N9: =DATE($M$2,$S$2,10) -> 45787 | O9: =DATE($M$2,$S$2,11) -> 45788 | P9: =DATE($M$2,$S$2,12) -> 45789 | Q9: =DATE($M$2,$S$2,13) -> 45790 | R9: =DATE($M$2,$S$2,14) -> 45791 | S9: =DATE($M$2,$S$2,15) -> 45792 | T9: =DATE($M$2,$S$2,16) -> 45793 | U9: =DATE($M$2,$S$2,17) -> 45794 | V9: =DATE($M$2,$S$2,18) -> 45795 | W9: =DATE($M$2,$S$2,19) -> 45796 | X9: =DATE($M$2,$S$2,20) -> 45797 | Y9: =DATE($M$2,$S$2,21) -> 45798 | Z9: =DATE($M$2,$S$2,22) -> 45799 | AA9: =DATE($M$2,$S$2,23) -> 45800 | AB9: =DATE($M$2,$S$2,24) -> 45801 | AC9: =DATE($M$2,$S$2,25) -> 45802 | AD9: =DATE($M$2,$S$2,26) -> 45803 | AE9: =DATE($M$2,$S$2,27) -> 45804 | AF9: =DATE($M$2,$S$2,28) -> 45805 | AG9: =IF(DAY(EOMONTH(E9,0))<29,"",DATE($M$2,$S$2,29)) -> 45806 | AH9: =IF(DAY(EOMONTH(E9,0))<30,"",DATE($M$2,$S$2,30)) -> 45807 | AI9: =IF(DAY(EOMONTH(E9,0))<31,"",DATE($M$2,$S$2,31)) -> 45808
E10: =DATE($M$2,$S$2,1) -> 45778 | F10: =DATE($M$2,$S$2,2) -> 45779 | G10: =DATE($M$2,$S$2,3) -> 45780 | H10: =DATE($M$2,$S$2,4) -> 45781 | I10: =DATE($M$2,$S$2,5) -> 45782 | J10: =DATE($M$2,$S$2,6) -> 45783 | K10: =DATE($M$2,$S$2,7) -> 45784 | L10: =DATE($M$2,$S$2,8) -> 45785 | M10: =DATE($M$2,$S$2,9) -> 45786 | N10: =DATE($M$2,$S$2,10) -> 45787 | O10: =DATE($M$2,$S$2,11) -> 45788 | P10: =DATE($M$2,$S$2,12) -> 45789 | Q10: =DATE($M$2,$S$2,13) -> 45790 | R10: =DATE($M$2,$S$2,14) -> 45791 | S10: =DATE($M$2,$S$2,15) -> 45792 | T10: =DATE($M$2,$S$2,16) -> 45793 | U10: =DATE($M$2,$S$2,17) -> 45794 | V10: =DATE($M$2,$S$2,18) -> 45795 | W10: =DATE($M$2,$S$2,19) -> 45796 | X10: =DATE($M$2,$S$2,20) -> 45797 | Y10: =DATE($M$2,$S$2,21) -> 45798 | Z10: =DATE($M$2,$S$2,22) -> 45799 | AA10: =DATE($M$2,$S$2,23) -> 45800 | AB10: =DATE($M$2,$S$2,24) -> 45801 | AC10: =DATE($M$2,$S$2,25) -> 45802 | AD10: =DATE($M$2,$S$2,26) -> 45803 | AE10: =DATE($M$2,$S$2,27) -> 45804 | AF10: =DATE($M$2,$S$2,28) -> 45805 | AG10: =IF(DAY(EOMONTH(E10,0))<29,"",DATE($M$2,$S$2,29)) -> 45806 | AH10: =IF(DAY(EOMONTH(E10,0))<30,"",DATE($M$2,$S$2,30)) -> 45807 | AI10: =IF(DAY(EOMONTH(E10,0))<31,"",DATE($M$2,$S$2,31)) -> 45808
A11: 1 | C11: A | D11: A | AJ11: =+SUM(E11:AI11) -> 0 | AK11: =IF($AK$3="４週",AJ11/4,AJ11/(DAY(EOMONTH($E$9,0))/7)) -> 0
A12: 2 | C12: B | D12: B | AJ12: =+SUM(E12:AI12) -> 0 | AK12: =IF($AK$3="４週",AJ12/4,AJ12/(DAY(EOMONTH($E$9,0))/7)) -> 0
A13: 3 | C13: C | D13: C | AJ13: =+SUM(E13:AI13) -> 0 | AK13: =IF($AK$3="４週",AJ13/4,AJ13/(DAY(EOMONTH($E$9,0))/7)) -> 0
A14: 4 | C14: D | D14: D | AJ14: =+SUM(E14:AI14) -> 0 | AK14: =IF($AK$3="４週",AJ14/4,AJ14/(DAY(EOMONTH($E$9,0))/7)) -> 0
A15: 5 | AJ15: =+SUM(E15:AI15) -> 0 | AK15: =IF($AK$3="４週",AJ15/4,AJ15/(DAY(EOMONTH($E$9,0))/7)) -> 0
A16: 6 | AJ16: =+SUM(E16:AI16) -> 0 | AK16: =IF($AK$3="４週",AJ16/4,AJ16/(DAY(EOMONTH($E$9,0))/7)) -> 0
A17: 7 | AJ17: =+SUM(E17:AI17) -> 0 | AK17: =IF($AK$3="４週",AJ17/4,AJ17/(DAY(EOMONTH($E$9,0))/7)) -> 0
A18: 8 | AJ18: =+SUM(E18:AI18) -> 0 | AK18: =IF($AK$3="４週",AJ18/4,AJ18/(DAY(EOMONTH($E$9,0))/7)) -> 0
A19: 9 | AJ19: =+SUM(E19:AI19) -> 0 | AK19: =IF($AK$3="４週",AJ19/4,AJ19/(DAY(EOMONTH($E$9,0))/7)) -> 0
A20: 10 | AJ20: =+SUM(E20:AI20) -> 0 | AK20: =IF($AK$3="４週",AJ20/4,AJ20/(DAY(EOMONTH($E$9,0))/7)) -> 0
A21: 11 | AJ21: =+SUM(E21:AI21) -> 0 | AK21: =IF($AK$3="４週",AJ21/4,AJ21/(DAY(EOMONTH($E$9,0))/7)) -> 0
A22: 12 | AJ22: =+SUM(E22:AI22) -> 0 | AK22: =IF($AK$3="４週",AJ22/4,AJ22/(DAY(EOMONTH($E$9,0))/7)) -> 0
A23: 13 | AJ23: =+SUM(E23:AI23) -> 0 | AK23: =IF($AK$3="４週",AJ23/4,AJ23/(DAY(EOMONTH($E$9,0))/7)) -> 0
A24: 14 | AJ24: =+SUM(E24:AI24) -> 0 | AK24: =IF($AK$3="４週",AJ24/4,AJ24/(DAY(EOMONTH($E$9,0))/7)) -> 0
A25: 15 | AJ25: =+SUM(E25:AI25) -> 0 | AK25: =IF($AK$3="４週",AJ25/4,AJ25/(DAY(EOMONTH($E$9,0))/7)) -> 0
A26: 16 | AJ26: =+SUM(E26:AI26) -> 0 | AK26: =IF($AK$3="４週",AJ26/4,AJ26/(DAY(EOMONTH($E$9,0))/7)) -> 0
... A30: 20 | AJ30: =+SUM(E30:AI30) -> 0 | AK30: =IF($AK$3="４週",AJ30/4,AJ30/(DAY(EOMONTH($E$9,0))/7)) -> 0
A31: 合計 | E31: =+SUM(E11:E30) -> 0 | F31: =+SUM(F11:F30) -> 0 | G31: =+SUM(G11:G30) -> 0 | H31: =+SUM(H11:H30) -> 0 | I31: =+SUM(I11:I30) -> 0 | J31: =+SUM(J11:J30) -> 0 | K31: =+SUM(K11:K30) -> 0 | L31: =+SUM(L11:L30) -> 0 | ... AI31: =+SUM(AI11:AI30) -> 0 | AJ31: =+SUM(E31:AI31) -> 0 | AK31: =IF($AK$3="４週",AJ31/4,AJ31/(DAY(EOMONTH($E$9,0))/7)) -> 0
A32: サービス提供時間
A36: ＜前年度の平均値＞※新規申請の場合は推定数を記載ください。
D37: 4 | E37: 5 | F37: 6 | I37: 7 | L37: 8 | O37: 9 | R37: 10 | U37: 11 | X37: 12 | AA37: 1 | AD37: 2 | AG37: 3 | AJ37: 計 | AL37: 平均利用者数
A38: 利用者延べ数 | D38: 1400 | E38: 1310 | F38: 1400 | I38: 1470 | L38: 1470 | O38: 1330 | R38: 1400 | U38: 1400 | X38: 1330 | AA38: 1330 | AD38: 1330 | AG38: 1400 | AJ38: =SUM(D38:AI38) -> 16570 | AL38: =ROUNDUP(AJ38/AJ39,1) -> 70
A39: 開所日数 | D39: 20 | E39: 19 | F39: 20 | I39: 21 | L39: 21 | O39: 19 | R39: 20 | U39: 20 | X39: 19 | AA39: 19 | AD39: 19 | AG39: 20 | AJ39: =+SUM(D39:AI39) -> 237
A41: ＜人員に関する基準＞
A42: 区分 | C42: サービス管理責任者 | E42: 職業指導員及び生活支援員 | I42: 就労支援員
A43: 必要な配置数 | C43: =ROUNDDOWN(IF(AL38<=60,1,1+ROUNDUP((AL38-60)/40,0)),1) -> 2 | E43: =ROUNDDOWN(AL38/6,1) -> 11.6 | I43: =ROUNDDOWN(AL38/15,1) -> 4.6
A45: ＜実人数集計＞
C46: =IF(VLOOKUP($AK$1,[1]選択肢!$A$1:$J$31,C51,FALSE)=0,"-",VLOOKUP($AK$1,[1]選択肢!$A$1:$J$31,C51,FALSE)) -> 管理者 | E46: =IF(VLOOKUP($AK$1,[1]選択肢!$A$1:$J$31,E51,FALSE)=0,"-",VLOOKUP($AK$1,[1]選択肢!$A$1:$J$31,E51,FALSE)) -> サービス管理責任者 | I46: =IF(VLOOKUP($AK$1,[1]選択肢!$A$1:$J$31,I51,FALSE)=0,"-",VLOOKUP($AK$1,[1]選択肢!$A$1:$J$31,I51,FALSE)) -> 就労支援員 | O46: =IF(VLOOKUP($AK$1,[1]選択肢!$A$1:$J$31,O51,FALSE)=0,"-",VLOOKUP($AK$1,[1]選択肢!$A$1:$J$31,O51,FALSE)) -> 職業指導員 | U46: =IF(VLOOKUP($AK$1,[1]選択肢!$A$1:$J$31,U51,FALSE)=0,"-",VLOOKUP($AK$1,[1]選択肢!$A$1:$J$31,U51,FALSE)) -> 生活支援員 | AA46: =IF(VLOOKUP($AK$1,[1]選択肢!$A$1:$J$31,AA51,FALSE)=0,"-",VLOOKUP($AK$1,[1]選択肢!$A$1:$J$31,AA51,FALSE)) -> - | AG46: =IF(VLOOKUP($AK$1,[1]選択肢!$A$1:$J$31,AG51,FALSE)=0,"-",VLOOKUP($AK$1,[1]選択肢!$A$1:$J$31,AG51,FALSE)) -> - | AL46: =IF(VLOOKUP($AK$1,[1]選択肢!$A$1:$J$31,AL51,FALSE)=0,"-",VLOOKUP($AK$1,[1]選択肢!$A$1:$J$31,AL51,FALSE)) -> -
C47: 専従 | D47: 兼務 | E47: 専従 | F47: 兼務 | I47: 専従 | L47: 兼務 | O47: 専従 | R47: 兼務 | U47: 専従 | X47: 兼務 | AA47: 専従 | AD47: 兼務 | AG47: 専従 | AJ47: 兼務 | AL47: 専従 | AM47: 兼務
B48: 常勤 | C48: =COUNTIFS($B$11:$B$30,C$46,$C$11:$C$30,"A",$D$11:$D$30,"*") -> 0 | D48: =COUNTIFS($B$11:$B$30,C$46,$C$11:$C$30,"B",$D$11:$D$30,"*") -> 0 | E48: =COUNTIFS($B$11:$B$30,E$46,$C$11:$C$30,"A",$D$11:$D$30,"*") -> 0 | F48: =COUNTIFS($B$11:$B$30,E$46,$C$11:$C$30,"B",$D$11:$D$30,"*") -> 0 | I48: =COUNTIFS($B$11:$B$30,I$46,$C$11:$C$30,"A",$D$11:$D$30,"*") -> 0 | L48: =COUNTIFS($B$11:$B$30,I$46,$C$11:$C$30,"B",$D$11:$D$30,"*") -> 0 | O48: =COUNTIFS($B$11:$B$30,O$46,$C$11:$C$30,"A",$D$11:$D$30,"*") -> 0 | R48: =COUNTIFS($B$11:$B$30,O$46,$C$11:$C$30,"B",$D$11:$D$30,"*") -> 0 | U48: =COUNTIFS($B$11:$B$30,U$46,$C$11:$C$30,"A",$D$11:$D$30,"*") -> 0 | X48: =COUNTIFS($B$11:$B$30,U$46,$C$11:$C$30,"B",$D$11:$D$30,"*") -> 0 | AA48: =COUNTIFS($B$11:$B$30,AA$46,$C$11:$C$30,"A",$D$11:$D$30,"*") -> 0 | AD48: =COUNTIFS($B$11:$B$30,AA$46,$C$11:$C$30,"B",$D$11:$D$30,"*") -> 0 | AG48: =COUNTIFS($B$11:$B$30,AG$46,$C$11:$C$30,"A",$D$11:$D$30,"*") -> 0 | AJ48: =COUNTIFS($B$11:$B$30,AG$46,$C$11:$C$30,"B",$D$11:$D$30,"*") -> 0 | AL48: =COUNTIFS($B$11:$B$30,AL$46,$C$11:$C$30,"A",$D$11:$D$30,"*") -> 0 | AM48: =COUNTIFS($B$11:$B$30,AL$46,$C$11:$C$30,"B",$D$11:$D$30,"*") -> 0
B49: 非常勤 | C49: =COUNTIFS($B$11:$B$30,C$46,$C$11:$C$30,"C",$D$11:$D$30,"*") -> 0 | D49: =COUNTIFS($B$11:$B$30,C$46,$C$11:$C$30,"D",$D$11:$D$30,"*") -> 0 | E49: =COUNTIFS($B$11:$B$30,E$46,$C$11:$C$30,"C",$D$11:$D$30,"*") -> 0 | F49: =COUNTIFS($B$11:$B$30,E$46,$C$11:$C$30,"D",$D$11:$D$30,"*") -> 0 | I49: =COUNTIFS($B$11:$B$30,I$46,$C$11:$C$30,"C",$D$11:$D$30,"*") -> 0 | L49: =COUNTIFS($B$11:$B$30,I$46,$C$11:$C$30,"D",$D$11:$D$30,"*") -> 0 | O49: =COUNTIFS($B$11:$B$30,O$46,$C$11:$C$30,"C",$D$11:$D$30,"*") -> 0 | R49: =COUNTIFS($B$11:$B$30,O$46,$C$11:$C$30,"D",$D$11:$D$30,"*") -> 0 | U49: =COUNTIFS($B$11:$B$30,U$46,$C$11:$C$30,"C",$D$11:$D$30,"*") -> 0 | X49: =COUNTIFS($B$11:$B$30,U$46,$C$11:$C$30,"D",$D$11:$D$30,"*") -> 0 | AA49: =COUNTIFS($B$11:$B$30,AA$46,$C$11:$C$30,"C",$D$11:$D$30,"*") -> 0 | AD49: =COUNTIFS($B$11:$B$30,AA$46,$C$11:$C$30,"D",$D$11:$D$30,"*") -> 0 | AG49: =COUNTIFS($B$11:$B$30,AG$46,$C$11:$C$30,"C",$D$11:$D$30,"*") -> 0 | AJ49: =COUNTIFS($B$11:$B$30,AG$46,$C$11:$C$30,"D",$D$11:$D$30,"*") -> 0 | AL49: =COUNTIFS($B$11:$B$30,AL$46,$C$11:$C$30,"C",$D$11:$D$30,"*") -> 0 | AM49: =COUNTIFS($B$11:$B$30,AL$46,$C$11:$C$30,"D",$D$11:$D$30,"*") -> 0
B50: 常勤換算数 | C50: =IF($AK$3="４週",SUMIFS($AJ$11:$AJ$30,$B$11:$B$30,C46)/4/$AH$5,IF($AK$3="歴月",SUMIFS($AJ$11:$AJ$30,$B$11:$B$30,C46)/$AL$5,"記載する期間を選択してください")) -> #DIV/0! | E50: =IF($AK$3="４週",SUMIFS($AJ$11:$AJ$30,$B$11:$B$30,E46)/4/$AH$5,IF($AK$3="歴月",SUMIFS($AJ$11:$AJ$30,$B$11:$B$30,E46)/$AL$5,"記載する期間を選択してください")) -> #DIV/0! | I50: =IF($AK$3="４週",SUMIFS($AJ$11:$AJ$30,$B$11:$B$30,I46)/4/$AH$5,IF($AK$3="歴月",SUMIFS($AJ$11:$AJ$30,$B$11:$B$30,I46)/$AL$5,"記載する期間を選択してください")) -> #DIV/0! | O50: =IF($AK$3="４週",SUMIFS($AJ$11:$AJ$30,$B$11:$B$30,O46)/4/$AH$5,IF($AK$3="歴月",SUMIFS($AJ$11:$AJ$30,$B$11:$B$30,O46)/$AL$5,"記載する期間を選択してください")) -> #DIV/0! | U50: =IF($AK$3="４週",SUMIFS($AJ$11:$AJ$30,$B$11:$B$30,U46)/4/$AH$5,IF($AK$3="歴月",SUMIFS($AJ$11:$AJ$30,$B$11:$B$30,U46)/$AL$5,"記載する期間を選択してください")) -> #DIV/0! | AA50: =IF($AK$3="４週",SUMIFS($AJ$11:$AJ$30,$B$11:$B$30,AA46)/4/$AH$5,IF($AK$3="歴月",SUMIFS($AJ$11:$AJ$30,$B$11:$B$30,AA46)/$AL$5,"記載する期間を選択してください")) -> #DIV/0! | AG50: =IF($AK$3="４週",SUMIFS($AJ$11:$AJ$30,$B$11:$B$30,AG46)/4/$AH$5,IF($AK$3="歴月",SUMIFS($AJ$11:$AJ$30,$B$11:$B$30,AG46)/$AL$5,"記載する期間を選択してください")) -> #DIV/0! | AL50: =IF($AK$3="４週",SUMIFS($AJ$11:$AJ$30,$B$11:$B$30,AL46)/4/$AH$5,IF($AK$3="歴月",SUMIFS($AJ$11:$AJ$30,$B$11:$B$30,AL46)/$AL$5,"記載する期間を選択してください")) -> #DIV/0!
C51: 2 | E51: 3 | I51: 4 | O51: 5 | U51: 6 | AA51: 7 | AG51: 8 | AL51: 9
A52: ・最初に「年月欄」「サービス種別」「事業所名」を入力してください。 | R52: 6 | X52: 7 | AD52: 8 | AJ52: 9
A53: (1) 「４週」・「暦月」のいずれかを選択してください。
A54: (2) 「予定」・「実績」のいずれかを選択してください。
A55: (3) 事業所における常勤の従業者が勤務すべき時間数を入力してください。
A56: (4) 従業者の職種を入力してください。
A57: 記入の順序は、職種ごとにまとめてください。
A58: (5) 従業者の勤務形態について、下記のうち該当する区分の記号を入力してください。
B59: 記号 | C59: 区分
B60: A | C60: 常勤で専従
B61: B | C61: 常勤で兼務
B62: C | C62: 非常勤で専従
B63: D | C63: 非常勤で兼務
B64: （注）常勤・非常勤の区分について
B65: 当該事業所における勤務時間が、当該事業所において定められている常勤の従業者が勤務すべき時間数に達していることをいいます。雇用の形態は考慮しません。
B66: （例えば、常勤者は週に40時間勤務することとされた事業所であれば、非正規雇用であっても、週40時間勤務する従業者は常勤扱いとなります。）
A67: (6) 従業者の氏名を記入してください。
A68: (7) 申請する事業に係る従業者（管理者を含む。）の1ヶ月分の勤務時間を入力してください。常勤の職員が休暇を取得する場合は、「休」と入力してください。
A69: ※ 指定基準の確認に際しては、４週分の入力で差し支えありません。
A70: (8) 従業者ごとに、合計勤務時間数を入力してください。
A71: ※ 入力することができる時間数は、当該事業所において常勤の従業者が勤務すべき勤務時間数を上限とします。
A72: (9) 従業者ごとに、週平均の勤務時間数を入力してください。
A73: (10) 申請する事業所以外の事業所・施設との兼務がある場合は、兼務先の事業所・施設の名称、兼務する職務の内容について記入してください。
A74: 同一事業所内の兼務についても兼務する職務の内容を記入してください。
A75: その他、特記事項欄としてもご活用ください。
A76: （11) 必要項目を満たしていれば、各事業所で使用するシフト表等をもって代替書類として差し支えありません。

Sheet 勤務形態一覧表（就労継続支援A型・B型）
A1: 従業者の勤務の体制及び勤務形態一覧表 | AI1: サービス種別 | AK1: 就労継続支援Ａ型・Ｂ型
M2: 2025 | Q2: 年 | S2: 5 | U2: 月 | AI2: 事業所名
AI3: (1)記載する期間 | AK3: ４週
E4: …直接入力 | AI4: (2)予定/実績の別
E5: …プルダウン | AG5: (3)事業所における常勤の従業者が勤務すべき時間数 | AH5: 40 | AK5: 時間/週 | AL5: 160 | AM5: 時間/月
A7: No. | B7: (4)職種 | C7: (5)勤務形態 | D7: (6)氏名 | E7: (7) | AJ7: (8)勤務時間数合計 | AK7: (9)週平均の勤務時間数 | AL7: (10)兼務状況 （兼務先／兼務する職務の内容）等
E8: 第１週 | L8: 第２週 | S8: 第３週 | Z8: 第４週 | AG8: 第５週
E9: =DATE($M$2,$S$2,1) -> 45778 | F9: =DATE($M$2,$S$2,2) -> 45779 | G9: =DATE($M$2,$S$2,3) -> 45780 | H9: =DATE($M$2,$S$2,4) -> 45781 | I9: =DATE($M$2,$S$2,5) -> 45782 | J9: =DATE($M$2,$S$2,6) -> 45783 | K9: =DATE($M$2,$S$2,7) -> 45784 | L9: =DATE($M$2,$S$2,8) -> 45785 | M9: =DATE($M$2,$S$2,9) -> 45786 | N9: =DATE($M$2,$S$2,10) -> 45787 | O9: =DATE($M$2,$S$2,11) -> 45788 | P9: =DATE($M$2,$S$2,12) -> 45789 | Q9: =DATE($M$2,$S$2,13) -> 45790 | R9: =DATE($M$2,$S$2,14) -> 45791 | S9: =DATE($M$2,$S$2,15) -> 45792 | T9: =DATE($M$2,$S$2,16) -> 45793 | U9: =DATE($M$2,$S$2,17) -> 45794 | V9: =DATE($M$2,$S$2,18) -> 45795 | W9: =DATE($M$2,$S$2,19) -> 45796 | X9: =DATE($M$2,$S$2,20) -> 45797 | Y9: =DATE($M$2,$S$2,21) -> 45798 | Z9: =DATE($M$2,$S$2,22) -> 45799 | AA9: =DATE($M$2,$S$2,23) -> 45800 | AB9: =DATE($M$2,$S$2,24) -> 45801 | AC9: =DATE($M$2,$S$2,25) -> 45802 | AD9: =DATE($M$2,$S$2,26) -> 45803 | AE9: =DATE($M$2,$S$2,27) -> 45804 | AF9: =DATE($M$2,$S$2,28) -> 45805 | AG9: =IF(DAY(EOMONTH(E9,0))<29,"",DATE($M$2,$S$2,29)) -> 45806 | AH9: =IF(DAY(EOMONTH(E9,0))<30,"",DATE($M$2,$S$2,30)) -> 45807 | AI9: =IF(DAY(EOMONTH(E9,0))<31,"",DATE($M$2,$S$2,31)) -> 45808
E10: =DATE($M$2,$S$2,1) -> 45778 | F10: =DATE($M$2,$S$2,2) -> 45779 | G10: =DATE($M$2,$S$2,3) -> 45780 | H10: =DATE($M$2,$S$2,4) -> 45781 | I10: =DATE($M$2,$S$2,5) -> 45782 | J10: =DATE($M$2,$S$2,6) -> 45783 | K10: =DATE($M$2,$S$2,7) -> 45784 | L10: =DATE($M$2,$S$2,8) -> 45785 | M10: =DATE($M$2,$S$2,9) -> 45786 | N10: =DATE($M$2,$S$2,10) -> 45787 | O10: =DATE($M$2,$S$2,11) -> 45788 | P10: =DATE($M$2,$S$2,12) -> 45789 | Q10: =DATE($M$2,$S$2,13) -> 45790 | R10: =DATE($M$2,$S$2,14) -> 45791 | S10: =DATE($M$2,$S$2,15) -> 45792 | T10: =DATE($M$2,$S$2,16) -> 45793 | U10: =DATE($M$2,$S$2,17) -> 45794 | V10: =DATE($M$2,$S$2,18) -> 45795 | W10: =DATE($M$2,$S$2,19) -> 45796 | X10: =DATE($M$2,$S$2,20) -> 45797 | Y10: =DATE($M$2,$S$2,21) -> 45798 | Z10: =DATE($M$2,$S$2,22) -> 45799 | AA10: =DATE($M$2,$S$2,23) -> 45800 | AB10: =DATE($M$2,$S$2,24) -> 45801 | AC10: =DATE($M$2,$S$2,25) -> 45802 | AD10: =DATE($M$2,$S$2,26) -> 45803 | AE10: =DATE($M$2,$S$2,27) -> 45804 | AF10: =DATE($M$2,$S$2,28) -> 45805 | AG10: =IF(DAY(EOMONTH(E10,0))<29,"",DATE($M$2,$S$2,29)) -> 45806 | AH10: =IF(DAY(EOMONTH(E10,0))<30,"",DATE($M$2,$S$2,30)) -> 45807 | AI10: =IF(DAY(EOMONTH(E10,0))<31,"",DATE($M$2,$S$2,31)) -> 45808
A11: 1 | C11: A | D11: A | E11: 8 | F11: 8 | H11: 8 | I11: 8 | J11: 8 | L11: 8 | M11: 8 | O11: 8 | P11: 8 | Q11: 8 | S11: 8 | T11: 8 | V11: 8 | W11: 8 | Y11: 8 | Z11: 8 | AB11: 8 | AC11: 8 | AD11: 8 | AF11: 8 | AJ11: =+SUM(E11:AI11) -> 160 | AK11: =IF($AK$3="４週",AJ11/4,AJ11/(DAY(EOMONTH($E$9,0))/7)) -> 40
A12: 2 | C12: B | D12: B | E12: 4 | F12: 4 | G12: 4 | H12: 4 | I12: 8 | L12: 4 | M12: 4 | N12: 4 | O12: 4 | P12: 8 | S12: 4 | T12: 4 | U12: 4 | V12: 4 | W12: 8 | Z12: 4 | AA12: 4 | AB12: 4 | AC12: 4 | AD12: 8 | AJ12: =+SUM(E12:AI12) -> 96 | AK12: =IF($AK$3="４週",AJ12/4,AJ12/(DAY(EOMONTH($E$9,0))/7)) -> 24
A13: 3 | C13: C | D13: C | E13: 4 | F13: 4 | H13: 4 | J13: 4 | L13: 4 | M13: 4 | O13: 4 | Q13: 4 | S13: 4 | T13: 4 | V13: 4 | X13: 4 | Z13: 4 | AA13: 4 | AC13: 4 | AE13: 4 | AJ13: =+SUM(E13:AI13) -> 64 | AK13: =IF($AK$3="４週",AJ13/4,AJ13/(DAY(EOMONTH($E$9,0))/7)) -> 16
A14: 4 | C14: D | D14: D | E14: 4 | F14: 4 | H14: 4 | I14: 4 | K14: 4 | L14: 4 | M14: 4 | O14: 4 | P14: 4 | R14: 4 | S14: 4 | T14: 4 | V14: 4 | W14: 4 | Y14: 4 | Z14: 4 | AA14: 4 | AC14: 4 | AD14: 4 | AF14: 4 | AJ14: =+SUM(E14:AI14) -> 80 | AK14: =IF($AK$3="４週",AJ14/4,AJ14/(DAY(EOMONTH($E$9,0))/7)) -> 20
A15: 5 | AJ15: =+SUM(E15:AI15) -> 0 | AK15: =IF($AK$3="４週",AJ15/4,AJ15/(DAY(EOMONTH($E$9,0))/7)) -> 0
A16: 6 | AJ16: =+SUM(E16:AI16) -> 0 | AK16: =IF($AK$3="４週",AJ16/4,AJ16/(DAY(EOMONTH($E$9,0))/7)) -> 0
A17: 7 | AJ17: =+SUM(E17:AI17) -> 0 | AK17: =IF($AK$3="４週",AJ17/4,AJ17/(DAY(EOMONTH($E$9,0))/7)) -> 0
A18: 8 | AJ18: =+SUM(E18:AI18) -> 0 | AK18: =IF($AK$3="４週",AJ18/4,AJ18/(DAY(EOMONTH($E$9,0))/7)) -> 0
A19: 9 | AJ19: =+SUM(E19:AI19) -> 0 | AK19: =IF($AK$3="４週",AJ19/4,AJ19/(DAY(EOMONTH($E$9,0))/7)) -> 0
A20: 10 | AJ20: =+SUM(E20:AI20) -> 0 | AK20: =IF($AK$3="４週",AJ20/4,AJ20/(DAY(EOMONTH($E$9,0))/7)) -> 0
A21: 11 | AJ21: =+SUM(E21:AI21) -> 0 | AK21: =IF($AK$3="４週",AJ21/4,AJ21/(DAY(EOMONTH($E$9,0))/7)) -> 0
A22: 12 | AJ22: =+SUM(E22:AI22) -> 0 | AK22: =IF($AK$3="４週",AJ22/4,AJ22/(DAY(EOMONTH($E$9,0))/7)) -> 0
A23: 13 | AJ23: =+SUM(E23:AI23) -> 0 | AK23: =IF($AK$3="４週",AJ23/4,AJ23/(DAY(EOMONTH($E$9,0))/7)) -> 0
A24: 14 | AJ24: =+SUM(E24:AI24) -> 0 | AK24: =IF($AK$3="４週",AJ24/4,AJ24/(DAY(EOMONTH($E$9,0))/7)) -> 0
A25: 15 | AJ25: =+SUM(E25:AI25) -> 0 | AK25: =IF($AK$3="４週",AJ25/4,AJ25/(DAY(EOMONTH($E$9,0))/7)) -> 0
A26: 16 | AJ26: =+SUM(E26:AI26) -> 0 | AK26: =IF($AK$3="４週",AJ26/4,AJ26/(DAY(EOMONTH($E$9,0))/7)) -> 0
... A30: 20 | AJ30: =+SUM(E30:AI30) -> 0 | AK30: =IF($AK$3="４週",AJ30/4,AJ30/(DAY(EOMONTH($E$9,0))/7)) -> 0
A31: 合計 | E31: =+SUM(E11:E30) -> 20 | F31: =+SUM(F11:F30) -> 20 | G31: =+SUM(G11:G30) -> 4 | H31: =+SUM(H11:H30) -> 20 | I31: =+SUM(I11:I30) -> 20 | J31: =+SUM(J11:J30) -> 12 | K31: =+SUM(K11:K30) -> 4 | L31: =+SUM(L11:L30) -> 20 | ... AI31: =+SUM(AI11:AI30) -> 0 | AJ31: =+SUM(E31:AI31) -> 400 | AK31: =IF($AK$3="４週",AJ31/4,AJ31/(DAY(EOMONTH($E$9,0))/7)) -> 100
A32: サービス提供時間 | E32: 12 | F32: 20 | G32: 12 | H32: 20 | I32: 12 | J32: 20 | K32: 12 | L32: 20 | M32: 12 | N32: 20 | O32: 12 | P32: 20 | Q32: 12 | R32: 20 | S32: 12 | T32: 20 | U32: 12 | V32: 20 | W32: 12 | X32: 20 | Y32: 12 | Z32: 20 | AA32: 12 | AB32: 20 | AC32: 12 | AD32: 20 | AE32: 12 | AF32: 20 | AG32: 12 | AH32: 20 | AI32: 20
A37: ＜前年度の平均値＞※新規申請の場合は推定数を記載ください。
D38: 4 | E38: 5 | F38: 6 | I38: 7 | L38: 8 | O38: 9 | R38: 10 | U38: 11 | X38: 12 | AA38: 1 | AD38: 2 | AG38: 3 | AJ38: 計 | AL38: 平均利用者数
A39: 利用者延べ数 | D39: 1400 | E39: 1310 | F39: 1400 | I39: 1470 | L39: 1470 | O39: 1330 | R39: 1400 | U39: 1400 | X39: 1330 | AA39: 1330 | AD39: 1330 | AG39: 1400 | AJ39: =SUM(D39:AI39) -> 16570 | AL39: =ROUNDUP(AJ39/AJ40,1) -> 70
A40: 開所日数 | D40: 20 | E40: 19 | F40: 20 | I40: 21 | L40: 21 | O40: 19 | R40: 20 | U40: 20 | X40: 19 | AA40: 19 | AD40: 19 | AG40: 20 | AJ40: =+SUM(D40:AI40) -> 237
A42: ＜人員に関する基準＞
A43: 区分 | C43: サービス管理責任者 | E43: 職業指導員及び生活支援員
A44: 必要な配置数 | C44: =ROUNDDOWN(IF(AL39<=60,1,1+ROUNDUP((AL39-60)/40,0)),1) -> 2 | E44: =ROUNDDOWN(AL39/10,1) -> 7
A46: ＜実人数集計＞
C47: =IF(VLOOKUP($AK$1,[1]選択肢!$A$1:$J$31,C52,FALSE)=0,"-",VLOOKUP($AK$1,[1]選択肢!$A$1:$J$31,C52,FALSE)) -> 管理者 | E47: =IF(VLOOKUP($AK$1,[1]選択肢!$A$1:$J$31,E52,FALSE)=0,"-",VLOOKUP($AK$1,[1]選択肢!$A$1:$J$31,E52,FALSE)) -> サービス管理責任者 | I47: =IF(VLOOKUP($AK$1,[1]選択肢!$A$1:$J$31,I52,FALSE)=0,"-",VLOOKUP($AK$1,[1]選択肢!$A$1:$J$31,I52,FALSE)) -> 職業指導員 | O47: =IF(VLOOKUP($AK$1,[1]選択肢!$A$1:$J$31,O52,FALSE)=0,"-",VLOOKUP($AK$1,[1]選択肢!$A$1:$J$31,O52,FALSE)) -> 生活支援員 | U47: =IF(VLOOKUP($AK$1,[1]選択肢!$A$1:$J$31,U52,FALSE)=0,"-",VLOOKUP($AK$1,[1]選択肢!$A$1:$J$31,U52,FALSE)) -> その他職員 | AA47: =IF(VLOOKUP($AK$1,[1]選択肢!$A$1:$J$31,AA52,FALSE)=0,"-",VLOOKUP($AK$1,[1]選択肢!$A$1:$J$31,AA52,FALSE)) -> - | AG47: =IF(VLOOKUP($AK$1,[1]選択肢!$A$1:$J$31,AG52,FALSE)=0,"-",VLOOKUP($AK$1,[1]選択肢!$A$1:$J$31,AG52,FALSE)) -> - | AL47: =IF(VLOOKUP($AK$1,[1]選択肢!$A$1:$J$31,AL52,FALSE)=0,"-",VLOOKUP($AK$1,[1]選択肢!$A$1:$J$31,AL52,FALSE)) -> -
C48: 専従 | D48: 兼務 | E48: 専従 | F48: 兼務 | I48: 専従 | L48: 兼務 | O48: 専従 | R48: 兼務 | U48: 専従 | X48: 兼務 | AA48: 専従 | AD48: 兼務 | AG48: 専従 | AJ48: 兼務 | AL48: 専従 | AM48: 兼務
B49: 常勤 | C49: =COUNTIFS($B$11:$B$30,C$47,$C$11:$C$30,"A",$D$11:$D$30,"*") -> 0 | D49: =COUNTIFS($B$11:$B$30,C$47,$C$11:$C$30,"B",$D$11:$D$30,"*") -> 0 | E49: =COUNTIFS($B$11:$B$30,E$47,$C$11:$C$30,"A",$D$11:$D$30,"*") -> 0 | F49: =COUNTIFS($B$11:$B$30,E$47,$C$11:$C$30,"B",$D$11:$D$30,"*") -> 0 | I49: =COUNTIFS($B$11:$B$30,I$47,$C$11:$C$30,"A",$D$11:$D$30,"*") -> 0 | L49: =COUNTIFS($B$11:$B$30,I$47,$C$11:$C$30,"B",$D$11:$D$30,"*") -> 0 | O49: =COUNTIFS($B$11:$B$30,O$47,$C$11:$C$30,"A",$D$11:$D$30,"*") -> 0 | R49: =COUNTIFS($B$11:$B$30,O$47,$C$11:$C$30,"B",$D$11:$D$30,"*") -> 0 | U49: =COUNTIFS($B$11:$B$30,U$47,$C$11:$C$30,"A",$D$11:$D$30,"*") -> 0 | X49: =COUNTIFS($B$11:$B$30,U$47,$C$11:$C$30,"B",$D$11:$D$30,"*") -> 0 | AA49: =COUNTIFS($B$11:$B$30,AA$47,$C$11:$C$30,"A",$D$11:$D$30,"*") -> 0 | AD49: =COUNTIFS($B$11:$B$30,AA$47,$C$11:$C$30,"B",$D$11:$D$30,"*") -> 0 | AG49: =COUNTIFS($B$11:$B$30,AG$47,$C$11:$C$30,"A",$D$11:$D$30,"*") -> 0 | AJ49: =COUNTIFS($B$11:$B$30,AG$47,$C$11:$C$30,"B",$D$11:$D$30,"*") -> 0 | AL49: =COUNTIFS($B$11:$B$30,AL$47,$C$11:$C$30,"A",$D$11:$D$30,"*") -> 0 | AM49: =COUNTIFS($B$11:$B$30,AL$47,$C$11:$C$30,"B",$D$11:$D$30,"*") -> 0
B50: 非常勤 | C50: =COUNTIFS($B$11:$B$30,C$47,$C$11:$C$30,"C",$D$11:$D$30,"*") -> 0 | D50: =COUNTIFS($B$11:$B$30,C$47,$C$11:$C$30,"D",$D$11:$D$30,"*") -> 0 | E50: =COUNTIFS($B$11:$B$30,E$47,$C$11:$C$30,"C",$D$11:$D$30,"*") -> 0 | F50: =COUNTIFS($B$11:$B$30,E$47,$C$11:$C$30,"D",$D$11:$D$30,"*") -> 0 | I50: =COUNTIFS($B$11:$B$30,I$47,$C$11:$C$30,"C",$D$11:$D$30,"*") -> 0 | L50: =COUNTIFS($B$11:$B$30,I$47,$C$11:$C$30,"D",$D$11:$D$30,"*") -> 0 | O50: =COUNTIFS($B$11:$B$30,O$47,$C$11:$C$30,"C",$D$11:$D$30,"*") -> 0 | R50: =COUNTIFS($B$11:$B$30,O$47,$C$11:$C$30,"D",$D$11:$D$30,"*") -> 0 | U50: =COUNTIFS($B$11:$B$30,U$47,$C$11:$C$30,"C",$D$11:$D$30,"*") -> 0 | X50: =COUNTIFS($B$11:$B$30,U$47,$C$11:$C$30,"D",$D$11:$D$30,"*") -> 0 | AA50: =COUNTIFS($B$11:$B$30,AA$47,$C$11:$C$30,"C",$D$11:$D$30,"*") -> 0 | AD50: =COUNTIFS($B$11:$B$30,AA$47,$C$11:$C$30,"D",$D$11:$D$30,"*") -> 0 | AG50: =COUNTIFS($B$11:$B$30,AG$47,$C$11:$C$30,"C",$D$11:$D$30,"*") -> 0 | AJ50: =COUNTIFS($B$11:$B$30,AG$47,$C$11:$C$30,"D",$D$11:$D$30,"*") -> 0 | AL50: =COUNTIFS($B$11:$B$30,AL$47,$C$11:$C$30,"C",$D$11:$D$30,"*") -> 0 | AM50: =COUNTIFS($B$11:$B$30,AL$47,$C$11:$C$30,"D",$D$11:$D$30,"*") -> 0
B51: 常勤換算数 | C51: =IF($AK$3="４週",SUMIFS($AJ$11:$AJ$30,$B$11:$B$30,C47)/4/$AH$5,IF($AK$3="歴月",SUMIFS($AJ$11:$AJ$30,$B$11:$B$30,C47)/$AL$5,"記載する期間を選択してください")) -> 0 | E51: =IF($AK$3="４週",SUMIFS($AJ$11:$AJ$30,$B$11:$B$30,E47)/4/$AH$5,IF($AK$3="歴月",SUMIFS($AJ$11:$AJ$30,$B$11:$B$30,E47)/$AL$5,"記載する期間を選択してください")) -> 0 | I51: =IF($AK$3="４週",SUMIFS($AJ$11:$AJ$30,$B$11:$B$30,I47)/4/$AH$5,IF($AK$3="歴月",SUMIFS($AJ$11:$AJ$30,$B$11:$B$30,I47)/$AL$5,"記載する期間を選択してください")) -> 0 | O51: =IF($AK$3="４週",SUMIFS($AJ$11:$AJ$30,$B$11:$B$30,O47)/4/$AH$5,IF($AK$3="歴月",SUMIFS($AJ$11:$AJ$30,$B$11:$B$30,O47)/$AL$5,"記載する期間を選択してください")) -> 0 | U51: =IF($AK$3="４週",SUMIFS($AJ$11:$AJ$30,$B$11:$B$30,U47)/4/$AH$5,IF($AK$3="歴月",SUMIFS($AJ$11:$AJ$30,$B$11:$B$30,U47)/$AL$5,"記載する期間を選択してください")) -> 0 | AA51: =IF($AK$3="４週",SUMIFS($AJ$11:$AJ$30,$B$11:$B$30,AA47)/4/$AH$5,IF($AK$3="歴月",SUMIFS($AJ$11:$AJ$30,$B$11:$B$30,AA47)/$AL$5,"記載する期間を選択してください")) -> 0 | AG51: =IF($AK$3="４週",SUMIFS($AJ$11:$AJ$30,$B$11:$B$30,AG47)/4/$AH$5,IF($AK$3="歴月",SUMIFS($AJ$11:$AJ$30,$B$11:$B$30,AG47)/$AL$5,"記載する期間を選択してください")) -> 0 | AL51: =IF($AK$3="４週",SUMIFS($AJ$11:$AJ$30,$B$11:$B$30,AL47)/4/$AH$5,IF($AK$3="歴月",SUMIFS($AJ$11:$AJ$30,$B$11:$B$30,AL47)/$AL$5,"記載する期間を選択してください")) -> 0
C52: 2 | E52: 3 | I52: 4 | O52: 5 | U52: 6 | AA52: 7 | AG52: 8 | AL52: 9
A53: ・最初に「年月欄」「サービス種別」「事業所名」を入力してください。 | R53: 6 | X53: 7 | AD53: 8 | AJ53: 9
A54: (1) 「４週」・「暦月」のいずれかを選択してください。
A55: (2) 「予定」・「実績」のいずれかを選択してください。
A56: (3) 事業所における常勤の従業者が勤務すべき時間数を入力してください。
A57: (4) 従業者の職種を入力してください。
A58: 記入の順序は、職種ごとにまとめてください。
A59: (5) 従業者の勤務形態について、下記のうち該当する区分の記号を入力してください。
B60: 記号 | C60: 区分
B61: A | C61: 常勤で専従
B62: B | C62: 常勤で兼務
B63: C | C63: 非常勤で専従
B64: D | C64: 非常勤で兼務
B65: （注）常勤・非常勤の区分について
B66: 当該事業所における勤務時間が、当該事業所において定められている常勤の従業者が勤務すべき時間数に達していることをいいます。雇用の形態は考慮しません。
B67: （例えば、常勤者は週に40時間勤務することとされた事業所であれば、非正規雇用であっても、週40時間勤務する従業者は常勤扱いとなります。）
A68: (6) 従業者の氏名を記入してください。
A69: (7) 申請する事業に係る従業者（管理者を含む。）の1ヶ月分の勤務時間を入力してください。常勤の職員が休暇を取得する場合は、「休」と入力してください。
A70: ※ 指定基準の確認に際しては、４週分の入力で差し支えありません。
A71: (8) 従業者ごとに、合計勤務時間数を入力してください。
A72: ※ 入力することができる時間数は、当該事業所において常勤の従業者が勤務すべき勤務時間数を上限とします。
A73: (9) 従業者ごとに、週平均の勤務時間数を入力してください。
A74: (10) 申請する事業所以外の事業所・施設との兼務がある場合は、兼務先の事業所・施設の名称、兼務する職務の内容について記入してください。
A75: 同一事業所内の兼務についても兼務する職務の内容を記入してください。
A76: その他、特記事項欄としてもご活用ください。
A77: （11) 必要項目を満たしていれば、各事業所で使用するシフト表等をもって代替書類として差し支えありません。

Sheet 勤務形態一覧表（就労定着支援）
A1: 従業者の勤務の体制及び勤務形態一覧表 | AI1: サービス種別 | AK1: 就労定着支援
M2: 2025 | Q2: 年 | S2: 5 | U2: 月 | AI2: 事業所名
AI3: (1)記載する期間
E4: …直接入力 | AI4: (2)予定/実績の別
E5: …プルダウン | AG5: (3)事業所における常勤の従業者が勤務すべき時間数 | AK5: 時間/週 | AM5: 時間/月
A7: No. | B7: (4)職種 | C7: (5)勤務形態 | D7: (6)氏名 | E7: (7) | AJ7: (8)勤務時間数合計 | AK7: (9)週平均の勤務時間数 | AL7: (10)兼務状況 （兼務先／兼務する職務の内容）等
E8: 第１週 | L8: 第２週 | S8: 第３週 | Z8: 第４週 | AG8: 第５週
E9: =DATE($M$2,$S$2,1) -> 45778 | F9: =DATE($M$2,$S$2,2) -> 45779 | G9: =DATE($M$2,$S$2,3) -> 45780 | H9: =DATE($M$2,$S$2,4) -> 45781 | I9: =DATE($M$2,$S$2,5) -> 45782 | J9: =DATE($M$2,$S$2,6) -> 45783 | K9: =DATE($M$2,$S$2,7) -> 45784 | L9: =DATE($M$2,$S$2,8) -> 45785 | M9: =DATE($M$2,$S$2,9) -> 45786 | N9: =DATE($M$2,$S$2,10) -> 45787 | O9: =DATE($M$2,$S$2,11) -> 45788 | P9: =DATE($M$2,$S$2,12) -> 45789 | Q9: =DATE($M$2,$S$2,13) -> 45790 | R9: =DATE($M$2,$S$2,14) -> 45791 | S9: =DATE($M$2,$S$2,15) -> 45792 | T9: =DATE($M$2,$S$2,16) -> 45793 | U9: =DATE($M$2,$S$2,17) -> 45794 | V9: =DATE($M$2,$S$2,18) -> 45795 | W9: =DATE($M$2,$S$2,19) -> 45796 | X9: =DATE($M$2,$S$2,20) -> 45797 | Y9: =DATE($M$2,$S$2,21) -> 45798 | Z9: =DATE($M$2,$S$2,22) -> 45799 | AA9: =DATE($M$2,$S$2,23) -> 45800 | AB9: =DATE($M$2,$S$2,24) -> 45801 | AC9: =DATE($M$2,$S$2,25) -> 45802 | AD9: =DATE($M$2,$S$2,26) -> 45803 | AE9: =DATE($M$2,$S$2,27) -> 45804 | AF9: =DATE($M$2,$S$2,28) -> 45805 | AG9: =IF(DAY(EOMONTH(E9,0))<29,"",DATE($M$2,$S$2,29)) -> 45806 | AH9: =IF(DAY(EOMONTH(E9,0))<30,"",DATE($M$2,$S$2,30)) -> 45807 | AI9: =IF(DAY(EOMONTH(E9,0))<31,"",DATE($M$2,$S$2,31)) -> 45808
E10: =DATE($M$2,$S$2,1) -> 45778 | F10: =DATE($M$2,$S$2,2) -> 45779 | G10: =DATE($M$2,$S$2,3) -> 45780 | H10: =DATE($M$2,$S$2,4) -> 45781 | I10: =DATE($M$2,$S$2,5) -> 45782 | J10: =DATE($M$2,$S$2,6) -> 45783 | K10: =DATE($M$2,$S$2,7) -> 45784 | L10: =DATE($M$2,$S$2,8) -> 45785 | M10: =DATE($M$2,$S$2,9) -> 45786 | N10: =DATE($M$2,$S$2,10) -> 45787 | O10: =DATE($M$2,$S$2,11) -> 45788 | P10: =DATE($M$2,$S$2,12) -> 45789 | Q10: =DATE($M$2,$S$2,13) -> 45790 | R10: =DATE($M$2,$S$2,14) -> 45791 | S10: =DATE($M$2,$S$2,15) -> 45792 | T10: =DATE($M$2,$S$2,16) -> 45793 | U10: =DATE($M$2,$S$2,17) -> 45794 | V10: =DATE($M$2,$S$2,18) -> 45795 | W10: =DATE($M$2,$S$2,19) -> 45796 | X10: =DATE($M$2,$S$2,20) -> 45797 | Y10: =DATE($M$2,$S$2,21) -> 45798 | Z10: =DATE($M$2,$S$2,22) -> 45799 | AA10: =DATE($M$2,$S$2,23) -> 45800 | AB10: =DATE($M$2,$S$2,24) -> 45801 | AC10: =DATE($M$2,$S$2,25) -> 45802 | AD10: =DATE($M$2,$S$2,26) -> 45803 | AE10: =DATE($M$2,$S$2,27) -> 45804 | AF10: =DATE($M$2,$S$2,28) -> 45805 | AG10: =IF(DAY(EOMONTH(E10,0))<29,"",DATE($M$2,$S$2,29)) -> 45806 | AH10: =IF(DAY(EOMONTH(E10,0))<30,"",DATE($M$2,$S$2,30)) -> 45807 | AI10: =IF(DAY(EOMONTH(E10,0))<31,"",DATE($M$2,$S$2,31)) -> 45808
A11: 1 | C11: A | D11: A | AJ11: =+SUM(E11:AI11) -> 0 | AK11: =IF($AK$3="４週",AJ11/4,AJ11/(DAY(EOMONTH($E$9,0))/7)) -> 0
A12: 2 | C12: B | D12: B | AJ12: =+SUM(E12:AI12) -> 0 | AK12: =IF($AK$3="４週",AJ12/4,AJ12/(DAY(EOMONTH($E$9,0))/7)) -> 0
A13: 3 | C13: C | D13: C | AJ13: =+SUM(E13:AI13) -> 0 | AK13: =IF($AK$3="４週",AJ13/4,AJ13/(DAY(EOMONTH($E$9,0))/7)) -> 0
A14: 4 | C14: D | D14: D | AJ14: =+SUM(E14:AI14) -> 0 | AK14: =IF($AK$3="４週",AJ14/4,AJ14/(DAY(EOMONTH($E$9,0))/7)) -> 0
A15: 5 | AJ15: =+SUM(E15:AI15) -> 0 | AK15: =IF($AK$3="４週",AJ15/4,AJ15/(DAY(EOMONTH($E$9,0))/7)) -> 0
A16: 6 | AJ16: =+SUM(E16:AI16) -> 0 | AK16: =IF($AK$3="４週",AJ16/4,AJ16/(DAY(EOMONTH($E$9,0))/7)) -> 0
A17: 7 | AJ17: =+SUM(E17:AI17) -> 0 | AK17: =IF($AK$3="４週",AJ17/4,AJ17/(DAY(EOMONTH($E$9,0))/7)) -> 0
A18: 8 | AJ18: =+SUM(E18:AI18) -> 0 | AK18: =IF($AK$3="４週",AJ18/4,AJ18/(DAY(EOMONTH($E$9,0))/7)) -> 0
A19: 9 | AJ19: =+SUM(E19:AI19) -> 0 | AK19: =IF($AK$3="４週",AJ19/4,AJ19/(DAY(EOMONTH($E$9,0))/7)) -> 0
A20: 10 | AJ20: =+SUM(E20:AI20) -> 0 | AK20: =IF($AK$3="４週",AJ20/4,AJ20/(DAY(EOMONTH($E$9,0))/7)) -> 0
A21: 11 | AJ21: =+SUM(E21:AI21) -> 0 | AK21: =IF($AK$3="４週",AJ21/4,AJ21/(DAY(EOMONTH($E$9,0))/7)) -> 0
A22: 12 | AJ22: =+SUM(E22:AI22) -> 0 | AK22: =IF($AK$3="４週",AJ22/4,AJ22/(DAY(EOMONTH($E$9,0))/7)) -> 0
A23: 13 | AJ23: =+SUM(E23:AI23) -> 0 | AK23: =IF($AK$3="４週",AJ23/4,AJ23/(DAY(EOMONTH($E$9,0))/7)) -> 0
A24: 14 | AJ24: =+SUM(E24:AI24) -> 0 | AK24: =IF($AK$3="４週",AJ24/4,AJ24/(DAY(EOMONTH($E$9,0))/7)) -> 0
A25: 15 | AJ25: =+SUM(E25:AI25) -> 0 | AK25: =IF($AK$3="４週",AJ25/4,AJ25/(DAY(EOMONTH($E$9,0))/7)) -> 0
A26: 16 | AJ26: =+SUM(E26:AI26) -> 0 | AK26: =IF($AK$3="４週",AJ26/4,AJ26/(DAY(EOMONTH($E$9,0))/7)) -> 0
... A30: 20 | AJ30: =+SUM(E30:AI30) -> 0 | AK30: =IF($AK$3="４週",AJ30/4,AJ30/(DAY(EOMONTH($E$9,0))/7)) -> 0
A31: 合計 | E31: =+SUM(E11:E30) -> 0 | F31: =+SUM(F11:F30) -> 0 | G31: =+SUM(G11:G30) -> 0 | H31: =+SUM(H11:H30) -> 0 | I31: =+SUM(I11:I30) -> 0 | J31: =+SUM(J11:J30) -> 0 | K31: =+SUM(K11:K30) -> 0 | L31: =+SUM(L11:L30) -> 0 | ... AI31: =+SUM(AI11:AI30) -> 0 | AJ31: =+SUM(E31:AI31) -> 0 | AK31: =IF($AK$3="４週",AJ31/4,AJ31/(DAY(EOMONTH($E$9,0))/7)) -> 0
A32: サービス提供時間
A36: ＜前年度の平均値＞※新規申請の場合は推定数を記載ください。
D37: 4 | E37: 5 | F37: 6 | I37: 7 | L37: 8 | O37: 9 | R37: 10 | U37: 11 | X37: 12 | AA37: 1 | AD37: 2 | AG37: 3 | AJ37: 計 | AL37: 平均利用者数
A38: 利用者延べ数 | D38: 1400 | E38: 1310 | F38: 1400 | I38: 1470 | L38: 1470 | O38: 1330 | R38: 1400 | U38: 1400 | X38: 1330 | AA38: 1330 | AD38: 1330 | AG38: 1400 | AJ38: =SUM(D38:AI38) -> 16570 | AL38: =ROUNDUP(AJ38/AJ39,1) -> 70
A39: 開所日数 | D39: 20 | E39: 19 | F39: 20 | I39: 21 | L39: 21 | O39: 19 | R39: 20 | U39: 20 | X39: 19 | AA39: 19 | AD39: 19 | AG39: 20 | AJ39: =+SUM(D39:AI39) -> 237
A41: ＜人員に関する基準＞
A42: 区分 | C42: サービス管理責任者 | E42: 就労定着支援員
A43: 必要な配置数 | C43: =ROUNDDOWN(IF(AL38<=60,1,1+ROUNDUP((AL38-60)/40,0)),1) -> 2 | E43: =ROUNDDOWN(AL38/40,1) -> 1.7
A45: ＜実人数集計＞
C46: =IF(VLOOKUP($AK$1,[1]選択肢!$A$1:$J$31,C51,FALSE)=0,"-",VLOOKUP($AK$1,[1]選択肢!$A$1:$J$31,C51,FALSE)) -> 管理者 | E46: =IF(VLOOKUP($AK$1,[1]選択肢!$A$1:$J$31,E51,FALSE)=0,"-",VLOOKUP($AK$1,[1]選択肢!$A$1:$J$31,E51,FALSE)) -> サービス管理責任者 | I46: =IF(VLOOKUP($AK$1,[1]選択肢!$A$1:$J$31,I51,FALSE)=0,"-",VLOOKUP($AK$1,[1]選択肢!$A$1:$J$31,I51,FALSE)) -> 就労定着支援員 | O46: =IF(VLOOKUP($AK$1,[1]選択肢!$A$1:$J$31,O51,FALSE)=0,"-",VLOOKUP($AK$1,[1]選択肢!$A$1:$J$31,O51,FALSE)) -> - | U46: =IF(VLOOKUP($AK$1,[1]選択肢!$A$1:$J$31,U51,FALSE)=0,"-",VLOOKUP($AK$1,[1]選択肢!$A$1:$J$31,U51,FALSE)) -> - | AA46: =IF(VLOOKUP($AK$1,[1]選択肢!$A$1:$J$31,AA51,FALSE)=0,"-",VLOOKUP($AK$1,[1]選択肢!$A$1:$J$31,AA51,FALSE)) -> - | AG46: =IF(VLOOKUP($AK$1,[1]選択肢!$A$1:$J$31,AG51,FALSE)=0,"-",VLOOKUP($AK$1,[1]選択肢!$A$1:$J$31,AG51,FALSE)) -> - | AL46: =IF(VLOOKUP($AK$1,[1]選択肢!$A$1:$J$31,AL51,FALSE)=0,"-",VLOOKUP($AK$1,[1]選択肢!$A$1:$J$31,AL51,FALSE)) -> -
C47: 専従 | D47: 兼務 | E47: 専従 | F47: 兼務 | I47: 専従 | L47: 兼務 | O47: 専従 | R47: 兼務 | U47: 専従 | X47: 兼務 | AA47: 専従 | AD47: 兼務 | AG47: 専従 | AJ47: 兼務 | AL47: 専従 | AM47: 兼務
B48: 常勤 | C48: =COUNTIFS($B$11:$B$30,C$46,$C$11:$C$30,"A",$D$11:$D$30,"*") -> 0 | D48: =COUNTIFS($B$11:$B$30,C$46,$C$11:$C$30,"B",$D$11:$D$30,"*") -> 0 | E48: =COUNTIFS($B$11:$B$30,E$46,$C$11:$C$30,"A",$D$11:$D$30,"*") -> 0 | F48: =COUNTIFS($B$11:$B$30,E$46,$C$11:$C$30,"B",$D$11:$D$30,"*") -> 0 | I48: =COUNTIFS($B$11:$B$30,I$46,$C$11:$C$30,"A",$D$11:$D$30,"*") -> 0 | L48: =COUNTIFS($B$11:$B$30,I$46,$C$11:$C$30,"B",$D$11:$D$30,"*") -> 0 | O48: =COUNTIFS($B$11:$B$30,O$46,$C$11:$C$30,"A",$D$11:$D$30,"*") -> 0 | R48: =COUNTIFS($B$11:$B$30,O$46,$C$11:$C$30,"B",$D$11:$D$30,"*") -> 0 | U48: =COUNTIFS($B$11:$B$30,U$46,$C$11:$C$30,"A",$D$11:$D$30,"*") -> 0 | X48: =COUNTIFS($B$11:$B$30,U$46,$C$11:$C$30,"B",$D$11:$D$30,"*") -> 0 | AA48: =COUNTIFS($B$11:$B$30,AA$46,$C$11:$C$30,"A",$D$11:$D$30,"*") -> 0 | AD48: =COUNTIFS($B$11:$B$30,AA$46,$C$11:$C$30,"B",$D$11:$D$30,"*") -> 0 | AG48: =COUNTIFS($B$11:$B$30,AG$46,$C$11:$C$30,"A",$D$11:$D$30,"*") -> 0 | AJ48: =COUNTIFS($B$11:$B$30,AG$46,$C$11:$C$30,"B",$D$11:$D$30,"*") -> 0 | AL48: =COUNTIFS($B$11:$B$30,AL$46,$C$11:$C$30,"A",$D$11:$D$30,"*") -> 0 | AM48: =COUNTIFS($B$11:$B$30,AL$46,$C$11:$C$30,"B",$D$11:$D$30,"*") -> 0
B49: 非常勤 | C49: =COUNTIFS($B$11:$B$30,C$46,$C$11:$C$30,"C",$D$11:$D$30,"*") -> 0 | D49: =COUNTIFS($B$11:$B$30,C$46,$C$11:$C$30,"D",$D$11:$D$30,"*") -> 0 | E49: =COUNTIFS($B$11:$B$30,E$46,$C$11:$C$30,"C",$D$11:$D$30,"*") -> 0 | F49: =COUNTIFS($B$11:$B$30,E$46,$C$11:$C$30,"D",$D$11:$D$30,"*") -> 0 | I49: =COUNTIFS($B$11:$B$30,I$46,$C$11:$C$30,"C",$D$11:$D$30,"*") -> 0 | L49: =COUNTIFS($B$11:$B$30,I$46,$C$11:$C$30,"D",$D$11:$D$30,"*") -> 0 | O49: =COUNTIFS($B$11:$B$30,O$46,$C$11:$C$30,"C",$D$11:$D$30,"*") -> 0 | R49: =COUNTIFS($B$11:$B$30,O$46,$C$11:$C$30,"D",$D$11:$D$30,"*") -> 0 | U49: =COUNTIFS($B$11:$B$30,U$46,$C$11:$C$30,"C",$D$11:$D$30,"*") -> 0 | X49: =COUNTIFS($B$11:$B$30,U$46,$C$11:$C$30,"D",$D$11:$D$30,"*") -> 0 | AA49: =COUNTIFS($B$11:$B$30,AA$46,$C$11:$C$30,"C",$D$11:$D$30,"*") -> 0 | AD49: =COUNTIFS($B$11:$B$30,AA$46,$C$11:$C$30,"D",$D$11:$D$30,"*") -> 0 | AG49: =COUNTIFS($B$11:$B$30,AG$46,$C$11:$C$30,"C",$D$11:$D$30,"*") -> 0 | AJ49: =COUNTIFS($B$11:$B$30,AG$46,$C$11:$C$30,"D",$D$11:$D$30,"*") -> 0 | AL49: =COUNTIFS($B$11:$B$30,AL$46,$C$11:$C$30,"C",$D$11:$D$30,"*") -> 0 | AM49: =COUNTIFS($B$11:$B$30,AL$46,$C$11:$C$30,"D",$D$11:$D$30,"*") -> 0
B50: 常勤換算数 | C50: =IF($AK$3="４週",SUMIFS($AJ$11:$AJ$30,$B$11:$B$30,C46)/4/$AH$5,IF($AK$3="歴月",SUMIFS($AJ$11:$AJ$30,$B$11:$B$30,C46)/$AL$5,"記載する期間を選択してください")) -> 記載する期間を選択してください | E50: =IF($AK$3="４週",SUMIFS($AJ$11:$AJ$30,$B$11:$B$30,E46)/4/$AH$5,IF($AK$3="歴月",SUMIFS($AJ$11:$AJ$30,$B$11:$B$30,E46)/$AL$5,"記載する期間を選択してください")) -> 記載する期間を選択してください | I50: =IF($AK$3="４週",SUMIFS($AJ$11:$AJ$30,$B$11:$B$30,I46)/4/$AH$5,IF($AK$3="歴月",SUMIFS($AJ$11:$AJ$30,$B$11:$B$30,I46)/$AL$5,"記載する期間を選択してください")) -> 記載する期間を選択してください | O50: =IF($AK$3="４週",SUMIFS($AJ$11:$AJ$30,$B$11:$B$30,O46)/4/$AH$5,IF($AK$3="歴月",SUMIFS($AJ$11:$AJ$30,$B$11:$B$30,O46)/$AL$5,"記載する期間を選択してください")) -> 記載する期間を選択してください | U50: =IF($AK$3="４週",SUMIFS($AJ$11:$AJ$30,$B$11:$B$30,U46)/4/$AH$5,IF($AK$3="歴月",SUMIFS($AJ$11:$AJ$30,$B$11:$B$30,U46)/$AL$5,"記載する期間を選択してください")) -> 記載する期間を選択してください | AA50: =IF($AK$3="４週",SUMIFS($AJ$11:$AJ$30,$B$11:$B$30,AA46)/4/$AH$5,IF($AK$3="歴月",SUMIFS($AJ$11:$AJ$30,$B$11:$B$30,AA46)/$AL$5,"記載する期間を選択してください")) -> 記載する期間を選択してください | AG50: =IF($AK$3="４週",SUMIFS($AJ$11:$AJ$30,$B$11:$B$30,AG46)/4/$AH$5,IF($AK$3="歴月",SUMIFS($AJ$11:$AJ$30,$B$11:$B$30,AG46)/$AL$5,"記載する期間を選択してください")) -> 記載する期間を選択してください | AL50: =IF($AK$3="４週",SUMIFS($AJ$11:$AJ$30,$B$11:$B$30,AL46)/4/$AH$5,IF($AK$3="歴月",SUMIFS($AJ$11:$AJ$30,$B$11:$B$30,AL46)/$AL$5,"記載する期間を選択してください")) -> 記載する期間を選択してください
C51: 2 | E51: 3 | I51: 4 | O51: 5 | U51: 6 | AA51: 7 | AG51: 8 | AL51: 9
A52: ・最初に「年月欄」「サービス種別」「事業所名」を入力してください。 | R52: 6 | X52: 7 | AD52: 8 | AJ52: 9
A53: (1) 「４週」・「暦月」のいずれかを選択してください。
A54: (2) 「予定」・「実績」のいずれかを選択してください。
A55: (3) 事業所における常勤の従業者が勤務すべき時間数を入力してください。
A56: (4) 従業者の職種を入力してください。
A57: 記入の順序は、職種ごとにまとめてください。
A58: (5) 従業者の勤務形態について、下記のうち該当する区分の記号を入力してください。
B59: 記号 | C59: 区分
B60: A | C60: 常勤で専従
B61: B | C61: 常勤で兼務
B62: C | C62: 非常勤で専従
B63: D | C63: 非常勤で兼務
B64: （注）常勤・非常勤の区分について
B65: 当該事業所における勤務時間が、当該事業所において定められている常勤の従業者が勤務すべき時間数に達していることをいいます。雇用の形態は考慮しません。
B66: （例えば、常勤者は週に40時間勤務することとされた事業所であれば、非正規雇用であっても、週40時間勤務する従業者は常勤扱いとなります。）
A67: (6) 従業者の氏名を記入してください。
A68: (7) 申請する事業に係る従業者（管理者を含む。）の1ヶ月分の勤務時間を入力してください。常勤の職員が休暇を取得する場合は、「休」と入力してください。
A69: ※ 指定基準の確認に際しては、４週分の入力で差し支えありません。
A70: (8) 従業者ごとに、合計勤務時間数を入力してください。
A71: ※ 入力することができる時間数は、当該事業所において常勤の従業者が勤務すべき勤務時間数を上限とします。
A72: (9) 従業者ごとに、週平均の勤務時間数を入力してください。
A73: (10) 申請する事業所以外の事業所・施設との兼務がある場合は、兼務先の事業所・施設の名称、兼務する職務の内容について記入してください。
A74: 同一事業所内の兼務についても兼務する職務の内容を記入してください。
A75: その他、特記事項欄としてもご活用ください。
A76: （11) 必要項目を満たしていれば、各事業所で使用するシフト表等をもって代替書類として差し支えありません。
