Workbook

Sheet 取説・目次
B1: 取扱説明書 | F1: 6.06 | G1: .02 | O1: 【目次】 (下線部タイトルをクリックで当該シートへ移動する) (各シートの欄外右上に本シートへのリンクがある) | EV1: 土木
B2: ① | C2: 本シートの | D2: 黄色セル | F2: に必要情報を記入する。 | O2: 1 | P2: 前金払請求書 | V2: 9 | W2: 完成届 | EV2: 建築
B3: ② | C3: 使用したいシートの | E3: 黄色セル | G3: を入力する。 | O3: 2 | P3: 施工計画書(施工図)承諾願 | V3: 10 | W3: 下検査手直し指摘事項完了報告書 | EV3: 大工
B4: ③ | C4: 黄色セル | D4: を | E4: 塗りつぶしなし | G4: に変更し印刷する。 | O4: 3 | P4: 工事用材料等選定届及承諾願 | V4: 11 | W4: 手直し（軽易）指摘事項完了報告書 | EV4: 左官
B5: ④ | C5: 必要な押印や署名を行い、添付書類等と共に提出する。 | O5: 4 | P5: 段階確認表 | V5: 12 | W5: 工事目的物引渡届兼引取報告書 | EV5: とび・土工
O6: 5 | P6: 工事打合簿 | V6: 13 | W6: 請求書 | EV6: 石
O7: 6 | P7: 工程会議表紙 | V7: 14 | W7: 下請施工（再委託）体系図【暴対】 | EV7: 屋根
O8: 7 | P8: 工事打合議事録 | V8: 15 | W8: 工事作業所災害防止協議会兼施工体系図 | EV8: 電気
O9: 8 | P9: 認定請求書 | EV9: 管
W10: 下の【下請関係情報】を | EV10: タイル・れんが・ブロック
W11: 入力してから使用する | EV11: 鋼構造物
EV12: 鉄筋
B13: 【基本情報】 | O13: 【下請関係情報】 (下線部タイトルをクリックで当該シートへ移動する) | EV13: ほ装
G14: ▼入力欄 | O14: ① | P14: 施工体制台帳 | Q14: 請負工事一部下請負届 | V14: ② | W14: 施工体制台帳 | X14: 請負工事一部下請負届 | AC14: ③ | AD14: 施工体制台帳 | AE14: 請負工事一部下請負届 | AJ14: ④ | AK14: 施工体制台帳 | AL14: 請負工事一部下請負届 | AQ14: ⑤ | AR14: 施工体制台帳 | AS14: 請負工事一部下請負届 | EV14: しゅんせつ
C15: 工事情報 | E15: 工事名 | G15: ○○○○○○工事 | O15: 会社名 | Q15: 市役所工業 | V15: 会社名 | AC15: 会社名 | AJ15: 会社名 | AQ15: 会社名 | EV15: 板金
E16: 工事場所 | G16: 甲府市○○-○-○ | O16: 事業者ID | Q16: 999999999 | V16: 事業者ID | AC16: 事業者ID | AJ16: 事業者ID | AQ16: 事業者ID | EV16: ガラス
E17: 工事概要 | G17: RC造○階建て○○○改修○○○㎡ | O17: 住所 | Q17: 甲府市○○ | V17: 住所 | AC17: 住所 | AJ17: 住所 | AQ17: 住所 | EV17: 塗装
G18: ○○工事一式、○○工事一式 | O18: 代表者 | P18: 役職名 | Q18: 代表 | V18: 代表者 | W18: 役職名 | AC18: 代表者 | AD18: 役職名 | AJ18: 代表者 | AK18: 役職名 | AQ18: 代表者 | AR18: 役職名 | EV18: 防水
E19: 契約番号 | G19: (建築工)契約第000001号 | P19: ふりがな | Q19: =PHONETIC(Q20) -> こうふ ○た | W19: ふりがな | X19: =PHONETIC(X20) | AD19: ふりがな | AE19: =PHONETIC(AE20) | AK19: ふりがな | AL19: =PHONETIC(AL20) | AR19: ふりがな | AS19: =PHONETIC(AS20) | EV19: 内装仕上
E20: 契約日 | G20: 44287 | P20: 氏名 | Q20: 甲府 ○太 | W20: 氏名 | AD20: 氏名 | AK20: 氏名 | AR20: 氏名 | EV20: 機械器具設置
E21: 着工日（工期） | G21: 44288 | P21: 生年月日 | Q21: 28126 | W21: 生年月日 | AD21: 生年月日 | AK21: 生年月日 | AR21: 生年月日 | EV21: 熱絶縁
E22: 完成日（工期） | G22: 44289 | O22: 許可番号 | Q22: ○○○○知事 | V22: 許可番号 | AC22: 許可番号 | AJ22: 許可番号 | AQ22: 許可番号 | EV22: 電気通信
E23: 請負金額(税込) | G23: 88888888 | Q23: 特定 | R23: 30 | S23: 第 | T23: 99999 | U23: 号 | Z23: 第 | AB23: 号 | AG23: 第 | AI23: 号 | AN23: 第 | AP23: 号 | AU23: 第 | AW23: 号 | EV23: 造園
P24: 許可(更新)日 | Q24: 44324 | W24: 許可(更新)日 | AD24: 許可(更新)日 | AK24: 許可(更新)日 | AR24: 許可(更新)日 | EV24: さく井
C25: 請負者 | E25: 会社名 | G25: 株式会社 甲府工務店 | O25: 契約日(注文受日) | Q25: 44353 | V25: 契約日(注文受日) | AC25: 契約日(注文受日) | AJ25: 契約日(注文受日) | AQ25: 契約日(注文受日) | EV25: 建具
E26: 事業者ID | O26: 契約工期 | Q26: 44384 | S26: ～ | T26: 44416 | V26: 契約工期 | Z26: ～ | AC26: 契約工期 | AG26: ～ | AJ26: 契約工期 | AN26: ～ | AQ26: 契約工期 | AU26: ～ | EV26: 水道施設
E27: 住所 | G27: 甲府市○-○-○ | O27: 請負額(税込) | Q27: 8888888 | V27: 請負額(税込) | AC27: 請負額(税込) | AJ27: 請負額(税込) | AQ27: 請負額(税込) | EV27: 消防施設
E28: （代表者氏名 ふりがな） | G28: こうふ たろう | O28: 委託工事内容 | Q28: △△△工事 | V28: 委託工事内容 | AC28: 委託工事内容 | AJ28: 委託工事内容 | AQ28: 委託工事内容 | EV28: 掃施設
E29: 役職名･代表者氏名 | G29: 代表取締役 甲府 太郎 | O29: 主任技術者名 | Q29: 甲府 ○○ | V29: 主任技術者名 | AC29: 主任技術者名 | AJ29: 主任技術者名 | AQ29: 主任技術者名 | EV29: 解体
E30: 現場代理人 | G30: 甲府 花子 | P30: 特定専門工事 | Q30: 無 | W30: 特定専門工事 | X30: 無 | AD30: 特定専門工事 | AE30: 無 | AK30: 特定専門工事 | AL30: 無 | AR30: 特定専門工事 | AS30: 無
E31: 主任(監理)技術者 | G31: 専任 | H31: 甲府 一郎 | O31: 安全衛生責任者名 | Q31: 山梨 □□ | V31: 安全衛生責任者名 | AC31: 安全衛生責任者名 | AJ31: 安全衛生責任者名 | AQ31: 安全衛生責任者名
F32: 資格 | G32: 一級建築士 | O32: 専門技術者名 | Q32: 甲府 △△ | V32: 専門技術者名 | AC32: 専門技術者名 | AJ32: 専門技術者名 | AQ32: 専門技術者名
E33: 監理技術者補佐 | P33: 担当工事内容 | Q33: □□工事 | W33: 担当工事内容 | AD33: 担当工事内容 | AK33: 担当工事内容 | AR33: 担当工事内容
F34: 資格
O35: ⑥ | P35: 施工体制台帳 | Q35: 請負工事一部下請負届 | V35: ⑦ | W35: 施工体制台帳 | X35: 請負工事一部下請負届 | AC35: ⑧ | AD35: 施工体制台帳 | AE35: 請負工事一部下請負届 | AJ35: ⑨ | AK35: 施工体制台帳 | AL35: 請負工事一部下請負届 | AQ35: ⑩ | AR35: 施工体制台帳 | AS35: 請負工事一部下請負届
C36: 甲府市 | E36: 市長名 | G36: 樋口 雄一 | O36: 会社名 | V36: 会社名 | AC36: 会社名 | AJ36: 会社名 | AQ36: 会社名
E37: 担当課名 | G37: 教育部 教育総室 教育施設課 | O37: 事業者ID | V37: 事業者ID | AC37: 事業者ID | AJ37: 事業者ID | AQ37: 事業者ID
E38: 担当者名 | G38: 澤田 祥太 | O38: 住所 | V38: 住所 | AC38: 住所 | AJ38: 住所 | AQ38: 住所
O39: 代表者 | P39: 役職名 | V39: 代表者 | W39: 役職名 | AC39: 代表者 | AD39: 役職名 | AJ39: 代表者 | AK39: 役職名 | AQ39: 代表者 | AR39: 役職名
P40: ふりがな | W40: ふりがな | AD40: ふりがな | AK40: ふりがな | AR40: ふりがな
...

Sheet 前金請求書
B1: 前 金 払 請 求 書 | N1: 取説・目次へ戻る
J2: =材料承諾願!I2 -> (建築工)契約第000001号
I3: 令和 年 月 日
A4: =IF(取説・目次!G37="甲府地区広域行政事務組合","(あて先）甲府地区広域行政事務組合 管理者","（あて先）甲 府 市 長") -> （あて先）甲 府 市 長
F5: 住所 | H5: =材料承諾願!$H$9 -> 甲府市○-○-○
D6: 請負者 | F6: 商号又は名称 | H6: =材料承諾願!$H$10 -> 株式会社 甲府工務店
F7: 氏名 | H7: =材料承諾願!$H$11 -> 代表取締役 甲府 太郎 | M7: 印
A9: 前金払申請金額 | D9: 十 | E9: 億 | F9: 千 | G9: 百 | H9: 十 | I9: 万 | J9: 千 | K9: 百 | L9: 十 | M9: 円
A11: 工事名 | C11: =材料承諾願!F16 -> ○○○○○○工事
A12: 工事場所 | C12: =材料承諾願!F18 -> 甲府市○○-○-○
A13: 契約年月日 | C13: =材料承諾願!F20 -> 44287
A14: 請負代金額 | D14: 十 | E14: 億 | F14: 千 | G14: 百 | H14: 十 | I14: 万 | J14: 千 | K14: 百 | L14: 十 | M14: 円
A16: 請負代金額の
A17: ４／１０ の金額
A18: 既受取前金額
A19: 請負代金額の
A20: ２／１０ の金額
A21: 工期 | D21: 着工 | E21: =材料承諾願!F22 -> 44288
D22: 完成 | E22: =材料承諾願!F24 -> 44289
A23: 保証事業会社名
A24: その他の事項
A25: ※請負者は、上記の太枠内の事項を記入すること。
A26: 前払決定金額 | E26: 億 | F26: 千 | G26: 百 | H26: 十 | I26: 万 | J26: 千 | K26: 百 | L26: 十 | M26: 円
A28: 収受 | C28: =材料承諾願!E46 -> 教育部 教育総室 教育施設課 | I28: 摘 要
A29: 年 月 日 | C29: 担当者 | E29: 係長 | G29: 課長
A30: 審査
A32: 年 月 日 | C32: =IF(C28="甲府地区広域行政事務組合","甲府地区広域行政事務組合","総務部 契約管財室 契約課 ") -> 総務部 契約管財室 契約課 | J32: 台 帳 記 入
A33: 決定 | C33: 担当者 | E33: 係長 | G33: 課長
A35: 年 月 日

Sheet 施工計画書(図)
B1: 施工計画書 | G1: 承 諾 願 | S1: 取説・目次へ戻る
B2: 施 工 図 | N2: =材料承諾願!I2 -> (建築工)契約第000001号
N3: 令和 年 月 日
B4: （あて先）
B5: =IF(取説・目次!G37="甲府地区広域行政事務組合","甲府地区広域行政事務組合 管理者","甲 府 市 長") -> 甲 府 市 長
H7: 住所 | L7: =材料承諾願!H9 -> 甲府市○-○-○
F8: 請負者
H9: 氏名 | L9: =材料承諾願!H10 -> 株式会社 甲府工務店
L10: =材料承諾願!H11 -> 代表取締役 甲府 太郎
H11: 現場代理人 | L11: ='打合簿 '!X18 -> 甲府 花子 | R11: ㊞
D13: 別紙のとおり | G13: 施工計画書 | J13: を作成しましたので承諾願います。
G14: 施工図
A15: 記
A17: 工事名 | E17: =材料承諾願!F16 -> ○○○○○○工事
A18: 工事場所 | E18: =材料承諾願!F18 -> 甲府市○○-○-○
A19: 契約年月日 | E19: =材料承諾願!F20 -> 44287
A20: 着工年月日 | E20: =材料承諾願!F22 -> 44288
A21: 完成年月日 | E21: =材料承諾願!F24 -> 44289
A22: 請負代金額 | G22: =材料承諾願!F26 -> 88888888 | O22: 円
A23: 承諾事項：
A27: 承諾年月日 | F27: 令和 年 月 日
E28: =材料承諾願!E46 -> 教育部 教育総室 教育施設課 | O28: 係 長 | Q28: 課 長
A29: 承 諾 | F29: （監督員・職・氏名）
F30: 技術職員 | I30: =材料承諾願!G50 -> 澤田 祥太 | N30: ㊞

Sheet 材料承諾願
A1: 工事用材料等選定届及承諾願 | L1: 取説・目次へ戻る
I2: =取説・目次!G19 -> (建築工)契約第000001号
I4: 令和 年 月 日
B6: =IF(取説・目次!G37="甲府地区広域行政事務組合","甲府地区広域行政事務組合 管理者 様","甲 府 市 長 様") -> 甲 府 市 長 様
F9: 請負者 | G9: 住 所 | H9: =取説・目次!G27 -> 甲府市○-○-○
F10: 代表 | G10: 氏 名 | H10: =取説・目次!G25 -> 株式会社 甲府工務店
H11: =取説・目次!G29 -> 代表取締役 甲府 太郎
F12: 現場代理人 | H12: =取説・目次!G30 -> 甲府 花子 | K12: ㊞
A14: 次のとおり工事用材料等を選定しましたので承諾願います。
B16: 工事名 | F16: =取説・目次!G15 -> ○○○○○○工事
B18: 工事場所 | F18: =取説・目次!G16 -> 甲府市○○-○-○
B20: 契約年月日 | F20: =取説・目次!G20 -> 44287
B22: 着工年月日 | F22: =取説・目次!G21 -> 44288
B24: 完成年月日 | F24: =取説・目次!G22 -> 44289
B26: 請負金額 | F26: =取説・目次!G23 -> 88888888 | J26: 円
B28: 種類及数量
C31: ○○○○ | E31: ××× | H31: 100 | I31: ㎡
J38: 工場製造の
B39: 上記工事について
H41: を使用したいので申請いたします。
B44: 承諾年月日 | E44: 令和 年 月 日
B46: 承諾 | E46: =取説・目次!G37 -> 教育部 教育総室 教育施設課 | J46: 係 長 | K46: 課 長
E48: （監督員・職・氏名）
E50: 技術職員 | G50: =取説・目次!G38 -> 澤田 祥太 | I50: ㊞

Sheet 段階確認
B1: 段階確認表 | I1: 取説・目次へ戻る
B2: 契約番号 | C2: =取説・目次!G19 -> (建築工)契約第000001号
B3: 工 事 名 | C3: =取説・目次!G15 -> ○○○○○○工事
B4: 工 期 | C4: =取説・目次!G21 -> 44288 | D4: =取説・目次!G22 -> 44289
B5: 請負業者 | C5: =取説・目次!G25 -> 株式会社 甲府工務店 | D5: =取説・目次!G29 -> 代表取締役 甲府 太郎 | F5: 現場代理人 | H5: =取説・目次!G30 -> 甲府 花子
H6: ※合否の判定は監督員が行うものとする。
A7: № | B7: 確認予定日 | C7: 確認項目 | D7: 確認内容 | E7: 確認日 | F7: 合否※ 合：○ 否：× | G7: 確認者 | H7: 備考
A8: 1 | B8: 月 日 | E8: 月 日
A9: 2 | B9: 月 日 | E9: 月 日
A10: 3 | B10: 月 日 | E10: 月 日
A11: 4 | B11: 月 日 | E11: 月 日
A12: 5 | B12: 月 日 | E12: 月 日
A13: 6 | B13: 月 日 | E13: 月 日
A14: 7 | B14: 月 日 | E14: 月 日
A15: 8 | B15: 月 日 | E15: 月 日
A16: 9 | B16: 月 日 | E16: 月 日
A17: 10 | B17: 月 日 | E17: 月 日
A18: 11 | B18: 月 日 | E18: 月 日
A19: 12 | B19: 月 日 | E19: 月 日
... A75: 68 | B75: 月 日 | E75: 月 日

Sheet 打合簿 
A1: 工 事 打 合 簿 | AQ1: 施工担当 | BG1: 取説・目次へ戻る
AN2: 担当者 | AT2: 係 長 | AZ2: 課 長
B4: 発議者 | K4: □ | M4: 発注者 | S4: ☑ | U4: 請負者 | AD4: 発議年月日 | AM4: 令和 | AS4: 年 | AX4: 月 | BC4: 日
B5: 発議事項 | J5: □ | L5: 指示 | O5: □ | Q5: 協議 | T5: □ | V5: 通知 | Y5: □ | AA5: 承諾 | AD5: □ | AF5: 提出 | AI5: □ | AK5: 報告 | AN5: □ | AP5: 届出 | AS5: □ | AU5: その他 | AY5: ( | BE5: )
B6: 契約番号 | L6: =材料承諾願!I2 -> (建築工)契約第000001号
B7: 工事名 | L7: =材料承諾願!F16 -> ○○○○○○工事
B8: 工事場所 | L8: =材料承諾願!F18 -> 甲府市○○-○-○
B9: 請負者名 | L9: =材料承諾願!H10 -> 株式会社 甲府工務店 | AG9: =材料承諾願!H11 -> 代表取締役 甲府 太郎
B10: （内 容）
B12: 添付図 | J12: 葉､その他添付図書
B13: 処理・回答 | G13: 発注者 | K13: 上記について | T13: □ | V13: 指示･ | Z13: □ | AB13: 承諾･ | AF13: □ | AH13: 協議･ | AL13: □ | AN13: 通知･ | AR13: □ | AT13: 受理 します。 | BU13: □了解・ | BZ13: □協議・ | CE13: □提出・ | CJ13: □報告・ | CO13: □届出
T14: □ | V14: その他（ ）
L15: 監督員 | X15: =材料承諾願!G50 -> 澤田 祥太 | AI15: ㊞ | AM15: 令和 | AS15: 年 | AX15: 月 | BC15: 日
G16: 請負者 | K16: 上記について | T16: □ | V16: 了解･ | Z16: □ | AB16: 協議･ | AF16: □ | AH16: 提出･ | AL16: □ | AN16: 報告･ | AR16: □ | AT16: 届出 します。
T17: □ | V17: その他（ ）
L18: 現場代理人 | X18: =取説・目次!G30 -> 甲府 花子 | AI18: ㊞
L19: 主任（監理）技術者 | X19: =取説・目次!H31 -> 甲府 一郎 | AI19: ㊞ | AM19: 令和 | AS19: 年 | AX19: 月 | BC19: 日
C20: (注）打合わせの都度２部作成し、各々保管する。

Sheet 工程会議
F1: 令和 年 月 日 | J1: 取説・目次へ戻る
B3: =材料承諾願!F16 -> ○○○○○○工事
B4: ○○学校○○○機械工事
B5: ○○学校○○○電気工事
C9: 第 回工程会議
B14: 建築主体工事 | C14: =材料承諾願!H10 -> 株式会社 甲府工務店
B15: 現場代理人 | C15: =取説・目次!G30 -> 甲府 花子 | H15: 印
B16: 電気設備工事
B17: 現場代理人 | H17: 印
B18: 機械設備工事
B19: 現場代理人 | H19: 印
A22: 施工担当 | C22: 担当者 | F22: 係長 | I22: 課 長
A24: 令和 年 月 日
B25: =IF(取説・目次!G37="甲府地区広域行政事務組合","","甲府市役所") -> 甲府市役所 | C25: =材料承諾願!E46 -> 教育部 教育総室 教育施設課

Sheet 工事議事録 
A1: 工 事 打 合 議 事 録 | AQ1: 施工担当 | BF1: 取説・目次へ戻る
AN2: 担当者 | AT2: 係 長 | AZ2: 課 長
B4: 工事名 | L4: =材料承諾願!F16 -> ○○○○○○工事
B5: 工事場所 | L5: =材料承諾願!F18 -> 甲府市○○-○-○
B6: 請負者名 | L6: =材料承諾願!H10 -> 株式会社 甲府工務店 | AG6: =材料承諾願!H11 -> 代表取締役 甲府 太郎
B7: 現場代理人 | L7: =取説・目次!G30 -> 甲府 花子 | W7: ㊞ | AB7: 主任(監理)技術者 | AP7: =取説・目次!H31 -> 甲府 一郎 | BA7: ㊞
B8: 市監督員 | L8: =材料承諾願!G50 -> 澤田 祥太 | W8: ㊞
A10: № | C10: 打合日 | O10: 打 合 内 容 | AW10: 備 考
A11: 1
A12: 2
A13: 3
A14: 4
A15: 5
A16: 6
A17: 7
A18: 8
A19: 9
A20: 10

Sheet 認定請求書
A1: 認 定 請 求 書 | P1: 取説・目次へ戻る
A4: 工 事 名
E5: =取説・目次!G15 -> ○○○○○○工事
A7: 工事場所
E8: =取説・目次!G16 -> 甲府市○○-○-○
A10: 工 期
E11: 着工 | G11: =取説・目次!G21 -> 44288
E13: 完成 | G13: =取説・目次!G22 -> 44289
A15: 請負代金額 | F15: 十 | G15: 億 | H15: 千 | I15: 百 | J15: 十 | K15: 万 | L15: 千 | M15: 百 | N15: 十 | O15: 円
F16: =前金請求書!D15 -> 0 | G16: =前金請求書!E15 -> 0 | H16: =前金請求書!F15 -> 0 | I16: =前金請求書!G15 -> 0 | J16: =前金請求書!H15 -> 0 | K16: =前金請求書!I15 -> 0 | L16: =前金請求書!J15 -> 0 | M16: =前金請求書!K15 -> 0 | ... O16: =前金請求書!M15 -> 0
A17: 摘 要
B23: 上記の工事について、甲府市契約規則第７５条第２項ただし書に規定する前金払の
B24: 請求要件を具備していることを認定されたく請求します。
B28: 令和 年 月 日
G33: 住 所 | J33: =取説・目次!G27 -> 甲府市○-○-○
G35: 商号又は名称 | J35: =取説・目次!G25 -> 株式会社 甲府工務店
G37: 氏 名 | J37: =取説・目次!G29 -> 代表取締役 甲府 太郎 | O37: ㊞
B42: =IF(取説・目次!G37="甲府地区広域行政事務組合","(あて先）甲府地区広域行政事務組合 管理者","（あて先）甲 府 市 長") -> （あて先）甲 府 市 長

Sheet 完成届
B1: 完 成 届 | N1: 取説・目次へ戻る
L3: =材料承諾願!I2 -> (建築工)契約第000001号
K6: 令和 年 月 日
C8: =IF(取説・目次!G37="甲府地区広域行政事務組合","(あて先）甲府地区広域行政事務組合 管理者","（あて先）甲 府 市 長") -> （あて先）甲 府 市 長
A10: 申請者は、太枠内の事項を記入すること | G10: 請負者 | H10: 住 所 | J10: =材料承諾願!H9 -> 甲府市○-○-○
G11: 代 表 | H11: 氏 名 | J11: =材料承諾願!H10 -> 株式会社 甲府工務店
J12: =材料承諾願!H11 -> 代表取締役 甲府 太郎 | M12: ㊞
C15: 工事名 | G15: =材料承諾願!F16 -> ○○○○○○工事
C18: 工事場所 | G18: =材料承諾願!F18 -> 甲府市○○-○-○
C21: 契約年月日 | H21: =材料承諾願!F20 -> 44287
C23: 工期
G24: 着工 | H24: =材料承諾願!F22 -> 44288
G25: 完成 | H25: =材料承諾願!F24 -> 44289
C28: 完成年月日 | H28: =材料承諾願!F24 -> 44289
C31: 請負代金（Ａ） | G31: =材料承諾願!F26 -> 88888888 | K31: 円
C34: 前払金（Ｂ） | G34: 0 | K34: 円
C36: 出来形部分払受領済額 (前払金を除く)（Ｃ）
G37: 0 | K37: 円
C39: 請負代金残額 Ａ－（Ｂ＋Ｃ）
G40: =G31-G34-G37 -> 88888888 | K40: 円
C43: 完成検査希望年月日 | H43: 令和 年 月 日
C47: 受理年月日 | G47: 令和 年 月 日
G49: （所属．職．氏名）
C50: 監督員
G51: =材料承諾願!E46 -> 教育部 教育総室 教育施設課 | J51: 技術職員 | K51: =材料承諾願!G50 -> 澤田 祥太 | M51: ㊞

Sheet 下検査手直し
F2: 施工担当 | I2: 取説・目次へ戻る
F3: 担当者 | G3: 係 長 | H3: 課 長
B5: 下検査手直し指摘事項完了報告書
B6: 工 事 名 | D6: =材料承諾願!F16 -> ○○○○○○工事
B7: 工事場所 | D7: =材料承諾願!F18 -> 甲府市○○-○-○
B8: 請 負 者 | D8: =材料承諾願!H10 -> 株式会社 甲府工務店 | F8: =材料承諾願!H11 -> 代表取締役 甲府 太郎
B9: 手 直 し 事 項
B10: 1
B11: 2
B12: 3
B13: 4
B14: 5
B15: 6
B16: 7
B17: 8
B18: 9
B19: 10
B20: 11
B21: 12
C22: 手直し事項は､すべて完了したので報告します。
D23: 現場代理人 | E23: =取説・目次!G30 -> 甲府 花子 | G23: ㊞
C24: 下検査手直し事項の完了を確認しました｡
D25: 監 督 員 | E25: =材料承諾願!G50 -> 澤田 祥太 | G25: ㊞

Sheet 完成検査手直し報告 
C2: (あて先) | F2: 施工担当 | I2: 取説・目次へ戻る
C3: =IF(取説・目次!G37="甲府地区広域行政事務組合","甲府地区広域行政事務組合","指導検査主幹 ") -> 指導検査主幹 | F3: 担当者 | G3: 係 長 | H3: 課 長
B5: 手直し（軽易）指摘事項完了報告書
B6: 工 事 名 | D6: =材料承諾願!F16 -> ○○○○○○工事
B7: 工事場所 | D7: =材料承諾願!F18 -> 甲府市○○-○-○
B8: 請 負 者 | D8: =材料承諾願!H10 -> 株式会社 甲府工務店 | F8: =材料承諾願!H11 -> 代表取締役 甲府 太郎
B9: 手 直 し 事 項
B10: 1
B11: 2
B12: 3
B13: 4
B14: 5
B15: 6
B16: 7
B17: 8
B18: 9
B19: 10
B20: 11
B21: 12
C22: 手直し事項は､すべて完了したので報告します。
D23: 現場代理人 | E23: =取説・目次!G30 -> 甲府 花子 | G23: ㊞
C24: 手直し事項の完了を確認しました｡
D25: 監 督 員 | E25: =材料承諾願!G50 -> 澤田 祥太 | G25: ㊞
B26: 06.4.1 | E26: （写真等資料を添付すること）

Sheet 工事目的物
N1: 取説・目次へ戻る
E2: 工事目的物引渡届兼引取報告書
L3: =材料承諾願!I2 -> (建築工)契約第000001号
K6: 令和 年 月 日
C8: =IF(取説・目次!G37="甲府地区広域行政事務組合","(あて先）甲府地区広域行政事務組合 管理者","（あて先）甲 府 市 長") -> （あて先）甲 府 市 長
A10: 申請者は、太枠内の事項を記入すること | G10: 請負者 | H10: 住 所 | J10: =材料承諾願!H9 -> 甲府市○-○-○
G11: 代 表 | H11: 氏 名 | J11: =材料承諾願!H10 -> 株式会社 甲府工務店
J12: =材料承諾願!H11 -> 代表取締役 甲府 太郎 | M12: ㊞
C15: 工事名 | G15: =材料承諾願!F16 -> ○○○○○○工事
C18: 工事場所 | G18: =材料承諾願!F18 -> 甲府市○○-○-○
C21: 検査年月日 | G21: 43923
C24: 引渡希望年月日 | G24: 令和 年 月 日
C27: 完成年月日 | G27: =完成届!H28 -> 44289
B31: 令和 年 月 日 | F31: =材料承諾願!E46 -> 教育部 教育総室 教育施設課 | L31: 摘 要
C32: 監督員 | D32: 係長 | G32: 課長
C39: 引取年月日 | G39: 令和 年 月 日
C42: 引渡者 | G42: 署名
C45: 引取者 | F45: =IF(取説・目次!G37="甲府地区広域行政事務組合",取説・目次!G37,"甲 府 市") -> 甲 府 市 | J45: 確認者 | K45: =材料承諾願!G50 -> 澤田 祥太 | M45: ㊞
B48: 引 取 報 告
B49: 令和 年 月 日 | F49: =F31 -> 教育部 教育総室 教育施設課 | L49: 摘 要
C50: 監督員 | D50: 係長 | G50: 課長

Sheet 請求書
R1: 令和 年 月 日 | AE1: 取説・目次へ戻る
B4: 請 求 書
B5: （工事・委託・賃借）
B8: =IF(取説・目次!G37="甲府地区広域行政事務組合","甲府地区広域行政事務組合 管理者 様","甲 府 市 長 様") -> 甲 府 市 長 様
L10: 住所 | R10: ='施工計画書(図)'!L7 -> 甲府市○-○-○
L12: 商号又は名称 | R12: =材料承諾願!H10 -> 株式会社 甲府工務店
L14: 代表者氏名 | R14: =材料承諾願!H11 -> 代表取締役 甲府 太郎 | AC14: ㊞
B17: 金 額 | H17: 十 | J17: 億 | L17: 千 | N17: 百 | P17: 十 | R17: 万 | T17: 千 | V17: 百 | X17: 十 | Z17: 一 | AB17: 円
B23: 件 名 | G23: =材料承諾願!F16 -> ○○○○○○工事
B27: 場 所 | G27: =材料承諾願!F18 -> 甲府市○○-○-○
B31: 期 間 | G31: =取説・目次!G21 -> 44288 | Q31: ～ | T31: =完成届!H28 -> 44289
C36: 相手方番号 | S36: 債務履行の確認
S37: 確 認 者
C38: 契約番号 | S38: 係 長 | X38: 課 長
C40: 負担行為番号
C42: 所属課 | F42: =材料承諾願!$E$46 -> 教育部 教育総室 教育施設課
C44: 債務履行確認年月日 | J44: 令和 年 月 日

Sheet 体系図【暴対】
X1: 取説・目次へ戻る
E2: 下請施工（再委託）体系図 | P2: （第 | Q2: 1 | R2: 回）
A3: （あて先）
A4: =IF(取説・目次!G37="甲府地区広域行政事務組合","甲府地区広域行政事務組合 管理者","甲 府 市 長") -> 甲 府 市 長 | R4: 令和 年 月 日
I6: （受注者） | M6: 住 所 | P6: =取説・目次!G27 -> 甲府市○-○-○
M7: 会社名 | P7: =前金請求書!H6 -> 株式会社 甲府工務店 | W7: 印
M8: ふりがな | P8: =取説・目次!G28 -> こうふ たろう
M9: 代表者氏名 | P9: =取説・目次!G29 -> 代表取締役 甲府 太郎
M10: 代表者生年月日 | P10: 29406
C11: 契約番号 | F11: =取説・目次!G19 -> (建築工)契約第000001号
C12: 工事（業務）名 | F12: =取説・目次!G15 -> ○○○○○○工事
C13: 工事（業務）箇所 | F13: =取説・目次!G16 -> 甲府市○○-○-○
C14: 工 期 | F14: =取説・目次!G21 -> 44288 | M14: ～ | N14: =取説・目次!G22 -> 44289
A17: （１次下請） | H17: （２次下請） | Q17: （３次下請）
A18: 会 社 名 | B18: =①!$AY$5 -> 市役所工業 | H18: 会 社 名 | Q18: 会 社 名
A19: 許可番号 | B19: =IF(①!$BR$20<>0,"無□","無☑") -> 無□ | C19: =IF($B$19="無□","有☑","有□") -> 有☑ | D19: ="(番号)"&①!BI20&" "&IF(取説・目次!Q23="特定","特-",IF(取説・目次!$Q$23="一般","般-",))&取説・目次!$R$23&" 第"&取説・目次!$T$23&"号" -> (番号)知事 特-30 第99999号 | H19: 許可番号 | I19: 無 | J19: □ | K19: 有 | L19: =IF(J19="□","☑","□") -> ☑ | M19: (番号) | Q19: 許可番号 | R19: 無 | S19: □ | T19: 有 | U19: =IF(S19="□","☑","□") -> ☑ | V19: (番号)
A20: 住 所 | B20: =①!$AY$8 -> 甲府市○○ | H20: 住 所 | Q20: 住 所
A21: ふりがな | B21: =取説・目次!Q19 -> こうふ ○た | H21: ふりがな | Q21: ふりがな
A22: 代表者名 | B22: =①!$BT$5 -> 甲府 ○太 | H22: 代表者名 | Q22: 代表者名
A23: 代表者生年月日 | B23: =取説・目次!Q21 -> 28126 | H23: 代表者生年月日 | Q23: 代表者生年月日
A24: 請負金額 | B24: =取説・目次!Q27 -> 8888888 | H24: 請負金額 | Q24: 請負金額
A25: 工事（業務）内容 | B25: =①!$AY$12&" "&①!$AY$13 -> △△△工事 | H25: 工事（業務）内容 | Q25: 工事（業務）内容
A26: 工 期 | B26: =①!$BA$14 -> 44384 | D26: ～ | E26: =①!$BA$16 -> 44416 | H26: 工 期 | M26: ～ | Q26: 工 期 | V26: ～
A28: 会 社 名 | B28: =②!$AY$5 -> 0 | H28: 会 社 名 | Q28: 会 社 名
A29: 許可番号 | B29: =IF(②!$BR$20<>0,"無□","無☑") -> 無☑ | C29: =IF($B$29="無□","有☑","有□") -> 有□ | D29: ="(番号)"&②!$BI$20&" "&IF(取説・目次!$X$23="特定","特-",IF(取説・目次!$X$23="一般","般-",))&取説・目次!$Y$23&" 第"&取説・目次!$AA$23&"号" -> (番号) 第号 | H29: 許可番号 | I29: 無 | J29: □ | K29: 有 | L29: =IF(J29="□","☑","□") -> ☑ | M29: (番号) | Q29: 許可番号 | R29: 無 | S29: □ | T29: 有 | U29: =IF(S29="□","☑","□") -> ☑ | V29: (番号)
A30: 住 所 | B30: =②!$AY$8 -> 0 | H30: 住 所 | Q30: 住 所
A31: ふりがな | B31: =取説・目次!X19 | H31: ふりがな | Q31: ふりがな
A32: 代表者名 | B32: =②!$BT$5 -> 0 | H32: 代表者名 | Q32: 代表者名
A33: 代表者生年月日 | B33: =取説・目次!X21 -> 0 | H33: 代表者生年月日 | Q33: 代表者生年月日
A34: 請負金額 | B34: =取説・目次!X27 -> 0 | H34: 請負金額 | Q34: 請負金額
A35: 工事（業務）内容 | B35: =②!$AY$12&" "&②!$AY$13 -> 0 | H35: 工事（業務）内容 | Q35: 工事（業務）内容
A36: 工 期 | B36: =②!$BA$14 -> 0 | D36: ～ | E36: =②!$BA$16 -> 0 | H36: 工 期 | M36: ～ | Q36: 工 期 | V36: ～
A38: 会 社 名 | B38: =③!$AY$5 -> 0 | H38: 会 社 名 | Q38: 会 社 名
A39: 許可番号 | B39: =IF(③!$BR$20<>0,"無□","無☑") -> 無☑ | C39: =IF($B$39="無□","有☑","有□") -> 有□ | D39: ="(番号)"&③!$BI$20&" "&IF(取説・目次!$AE$23="特定","特-",IF(取説・目次!$AE$23="一般","般-",))&取説・目次!AF23&" 第"&取説・目次!AH23&"号" -> (番号) 第号 | H39: 許可番号 | I39: 無 | J39: □ | K39: 有 | L39: =IF(J39="□","☑","□") -> ☑ | M39: (番号) | Q39: 許可番号 | R39: 無 | S39: □ | T39: 有 | U39: =IF(S39="□","☑","□") -> ☑ | V39: (番号)
A40: 住 所 | B40: =③!$AY$8 -> 0 | H40: 住 所 | Q40: 住 所
A41: ふりがな | B41: =取説・目次!AE19 | H41: ふりがな | Q41: ふりがな
A42: 代表者名 | B42: =③!$BT$5 -> 0 | H42: 代表者名 | Q42: 代表者名
A43: 代表者生年月日 | B43: =取説・目次!AE21 -> 0 | H43: 代表者生年月日 | Q43: 代表者生年月日
A44: 請負金額 | B44: =取説・目次!AE27 -> 0 | H44: 請負金額 | Q44: 請負金額
A45: 工事（業務）内容 | B45: =③!$AY$12&" "&③!$AY$13 -> 0 | H45: 工事（業務）内容 | Q45: 工事（業務）内容
...

Sheet 体系図
I1: 工事作業所災害防止協議会兼施工体系図 | AN1: 取説・目次へ戻る
A3: 発注者名 | C3: =①!H19 -> 甲府市長 樋口 雄一 | J3: 工期 | L3: 自 | M3: =取説・目次!G21 -> 44288
A4: 工事名称 | C4: =取説・目次!G15 -> ○○○○○○工事 | L4: 至 | M4: =取説・目次!G22 -> 44289
A6: 元請名・事業者ID | C6: =取説・目次!G25&IF(取説・目次!G26<>0,CHAR(10)&取説・目次!G26,) -> 株式会社 甲府工務店 | I6: 工事 | K6: 会社名・事業者ID | Q6: 工事 | S6: 会社名・事業者ID | Y6: 工事 | AA6: 会社名・事業者ID | AG6: 工事 | AI6: 会社名・事業者ID | AN6: ① | AO6: =取説・目次!Q28 -> △△△工事 | AQ6: 会社名・事業者ID | AT6: =取説・目次!Q15&IF(取説・目次!Q16<>0,CHAR(10)&取説・目次!Q16,) -> 市役所工業 999999999 | AU6: ⑤ | AV6: =取説・目次!AS28 -> 0 | AX6: 会社名・事業者ID | BA6: =取説・目次!AS15&IF(取説・目次!AS16<>0,CHAR(10)&取説・目次!AS16,) | BB6: ⑨ | BC6: =取説・目次!AL49 -> 0 | BE6: 会社名・事業者ID | BH6: =取説・目次!AL36&IF(取説・目次!AL37<>0,CHAR(10)&取説・目次!AL37,) | BI6: ⑬ | BJ6: =取説・目次!AE70 -> 0 | BL6: 会社名・事業者ID | BO6: =取説・目次!AE57&IF(取説・目次!AE58<>0,CHAR(10)&取説・目次!AE58,)
A7: 監督員名 | K7: 代表者名 | S7: 代表者名 | AA7: 代表者名 | AI7: 代表者名 | AQ7: 代表者名 | AT7: =取説・目次!Q20 -> 甲府 ○太 | AX7: 代表者名 | BA7: =取説・目次!AS20 -> 0 | BE7: 代表者名 | BH7: =取説・目次!AS41 -> 0 | BL7: 代表者名 | BO7: =取説・目次!AE62 -> 0
A8: 監理技術者名 主任技術者名 | C8: =取説・目次!H31 -> 甲府 一郎 | K8: 許可番号 | S8: 許可番号 | AA8: 許可番号 | AI8: 許可番号 | AQ8: 許可番号 | AT8: =①A!Z20 -> ○○○○知事許可（特-30）第99999号 | AX8: 許可番号 | BA8: =⑤A!Z20 -> 許可）第号 | BE8: 許可番号 | BH8: =⑨A!Z20 -> 許可）第号 | BL8: 許可番号 | BO8: =⑬A!Z20 -> 許可）第号
A9: 監理技術者補佐名 | C9: =取説・目次!H33 -> 0 | K9: 一般 / 特定の別 | N9: 一般 / 特定 | S9: 一般 / 特定の別 | V9: 一般 / 特定 | AA9: 一般 / 特定の別 | AD9: 一般 / 特定 | AI9: 一般 / 特定の別 | AL9: 一般 / 特定 | AQ9: 一般 / 特定の別 | AT9: =取説・目次!Q23 -> 特定 | AX9: 一般 / 特定の別 | BA9: =取説・目次!AS23 -> 0 | BE9: 一般 / 特定の別 | BH9: =取説・目次!AL44 -> 0 | BL9: 一般 / 特定の別 | BO9: =取説・目次!AE65 -> 0
A10: 専門技術者名 | K10: 安全衛生責任者 | S10: 安全衛生責任者 | AA10: 安全衛生責任者 | AI10: 安全衛生責任者 | AQ10: 安全衛生責任者 | AT10: =取説・目次!Q31 -> 山梨 □□ | AX10: 安全衛生責任者 | BA10: =取説・目次!AS31 -> 0 | BE10: 安全衛生責任者 | BH10: =取説・目次!AS52 -> 0 | BL10: 安全衛生責任者 | BO10: =取説・目次!AE73 -> 0
B11: 担当工事内容 | K11: 主任技術者 | S11: 主任技術者 | AA11: 主任技術者 | AI11: 主任技術者 | AQ11: 主任技術者 | AT11: =取説・目次!Q29 -> 甲府 ○○ | AX11: 主任技術者 | BA11: =取説・目次!AS29 -> 0 | BE11: 主任技術者 | BH11: =取説・目次!AL50 -> 0 | BL11: 主任技術者 | BO11: =取説・目次!AE71 -> 0
A12: 専門技術者名 | F12: 元方安全衛生管理者 | L12: 特定専門工事 の該当 | N12: 有 ・ 無 | T12: 特定専門工事 の該当 | V12: 有 ・ 無 | AB12: 特定専門工事 の該当 | AD12: 有 ・ 無 | AJ12: 特定専門工事 の該当 | AL12: 有 ・ 無 | AR12: 特定専門工事 の該当 | AT12: =取説・目次!Q30 -> 無 | AY12: 特定専門工事 の該当 | BA12: =取説・目次!AS30 -> 無 | BF12: 特定専門工事 の該当 | BH12: =取説・目次!AS51 -> 0 | BM12: 特定専門工事 の該当 | BO12: =取説・目次!AE72 -> 0
B13: 担当工事内容 | K13: 専門技術者 | S13: 専門技術者 | AA13: 専門技術者 | AI13: 専門技術者 | AQ13: 専門技術者 | AT13: =取説・目次!Q32 -> 甲府 △△ | AX13: 専門技術者 | BA13: =取説・目次!AS32 -> 0 | BE13: 専門技術者 | BH13: =取説・目次!AL53 -> 0 | BL13: 専門技術者 | BO13: =取説・目次!AE74 -> 0
L14: 担当工事 内容 | T14: 担当工事 内容 | AB14: 担当工事 内容 | AJ14: 担当工事 内容 | AR14: 担当工事 内容 | AT14: =取説・目次!Q33 -> □□工事 | AY14: 担当工事 内容 | BA14: =取説・目次!AS33 -> 0 | BF14: 担当工事 内容 | BH14: =取説・目次!AL54 -> 0 | BM14: 担当工事 内容 | BO14: =取説・目次!AE75 -> 0
A15: 会長 | C15: 統括安全衛生責任者 | I15: 工期 | L15: 年 月 日 ～ 年 月 日 | Q15: 工期 | T15: 年 月 日 ～ 年 月 日 | Y15: 工期 | AB15: 年 月 日 ～ 年 月 日 | AG15: 工期 | AJ15: 年 月 日 ～ 年 月 日 | AO15: 工期 | AR15: =DATESTRING(取説・目次!Q26)&" ～ "&DATESTRING(取説・目次!T26) -> 令和03年07月07日 ～ 令和03年08月08日 | AV15: 工期 | AY15: =DATESTRING(取説・目次!AS26)&" ～ "&DATESTRING(取説・目次!AV26) -> 明治33年01月00日 ～ 明治33年01月00日 | BC15: 工期 | BF15: =DATESTRING(取説・目次!AL47)&" ～ "&DATESTRING(取説・目次!AO47) -> 明治33年01月00日 ～ 明治33年01月00日 | BJ15: 工期 | BM15: =DATESTRING(取説・目次!AE68)&" ～ "&DATESTRING(取説・目次!AH68) -> 明治33年01月00日 ～ 明治33年01月00日
I18: 工事 | K18: 会社名・事業者ID | Q18: 工事 | S18: 会社名・事業者ID | Y18: 工事 | AA18: 会社名・事業者ID | AG18: 工事 | AI18: 会社名・事業者ID | AN18: ② | AO18: =取説・目次!X28 -> 0 | AQ18: 会社名・事業者ID | AT18: =取説・目次!X15&IF(取説・目次!X16<>0,CHAR(10)&取説・目次!X16,) | AU18: ⑥ | AV18: =取説・目次!Q49 -> 0 | AX18: 会社名・事業者ID | BA18: =取説・目次!Q36&IF(取説・目次!Q37<>0,CHAR(10)&取説・目次!Q37,) | BB18: ⑩ | BC18: =取説・目次!AS49 -> 0 | BE18: 会社名・事業者ID | BH18: =取説・目次!AS36&IF(取説・目次!AS37<>0,CHAR(10)&取説・目次!AS37,) | BI18: ⑭ | BJ18: =取説・目次!AL70 -> 0 | BL18: 会社名・事業者ID | BO18: =取説・目次!AL57&IF(取説・目次!AL58<>0,CHAR(10)&取説・目次!AL58,)
K19: 代表者名 | S19: 代表者名 | AA19: 代表者名 | AI19: 代表者名 | AQ19: 代表者名 | AT19: =取説・目次!X20 -> 0 | AX19: 代表者名 | BA19: =取説・目次!Q41 -> 0 | BE19: 代表者名 | BH19: =取説・目次!AS41 -> 0 | BL19: 代表者名 | BO19: =取説・目次!AL62 -> 0
A20: 副会長 | K20: 許可番号 | S20: 許可番号 | AA20: 許可番号 | AI20: 許可番号 | AQ20: 許可番号 | AT20: =②A!Z20 -> 許可）第号 | AX20: 許可番号 | BA20: =⑥A!Z20 -> 許可）第号 | BE20: 許可番号 | BH20: =⑩A!Z20 -> 許可）第号 | BL20: 許可番号 | BO20: =⑭A!Z20 -> 許可）第号
K21: 一般 / 特定の別 | N21: 一般 / 特定 | S21: 一般 / 特定の別 | V21: 一般 / 特定 | AA21: 一般 / 特定の別 | AD21: 一般 / 特定 | AI21: 一般 / 特定の別 | AL21: 一般 / 特定 | AQ21: 一般 / 特定の別 | AT21: =取説・目次!X23 -> 0 | AX21: 一般 / 特定の別 | BA21: =取説・目次!Q44 -> 0 | BE21: 一般 / 特定の別 | BH21: =取説・目次!AS44 -> 0 | BL21: 一般 / 特定の別 | BO21: =取説・目次!AL65 -> 0
K22: 安全衛生責任者 | S22: 安全衛生責任者 | AA22: 安全衛生責任者 | AI22: 安全衛生責任者 | AQ22: 安全衛生責任者 | AT22: =取説・目次!X31 -> 0 | AX22: 安全衛生責任者 | BA22: =取説・目次!Q52 -> 0 | BE22: 安全衛生責任者 | BH22: =取説・目次!AS52 -> 0 | BL22: 安全衛生責任者 | BO22: =取説・目次!AL73 -> 0
K23: 主任技術者 | S23: 主任技術者 | AA23: 主任技術者 | AI23: 主任技術者 | AQ23: 主任技術者 | AT23: =取説・目次!X29 -> 0 | AX23: 主任技術者 | BA23: =取説・目次!Q50 -> 0 | BE23: 主任技術者 | BH23: =取説・目次!AS50 -> 0 | BL23: 主任技術者 | BO23: =取説・目次!AL71 -> 0
L24: 特定専門工事 の該当 | N24: 有 ・ 無 | T24: 特定専門工事 の該当 | V24: 有 ・ 無 | AB24: 特定専門工事 の該当 | AD24: 有 ・ 無 | AJ24: 特定専門工事 の該当 | AL24: 有 ・ 無 | AR24: 特定専門工事 の該当 | AT24: =取説・目次!X30 -> 無 | AY24: 特定専門工事 の該当 | BA24: =取説・目次!Q51 -> 0 | BF24: 特定専門工事 の該当 | BH24: =取説・目次!AS51 -> 0 | BM24: 特定専門工事 の該当 | BO24: =取説・目次!AL72 -> 0
K25: 専門技術者 | S25: 専門技術者 | AA25: 専門技術者 | AI25: 専門技術者 | AQ25: 専門技術者 | AT25: =取説・目次!X32 -> 0 | AX25: 専門技術者 | BA25: =取説・目次!Q53 -> 0 | BE25: 専門技術者 | BH25: =取説・目次!AS53 -> 0 | BL25: 専門技術者 | BO25: =取説・目次!AL74 -> 0
L26: 担当工事 内容 | T26: 担当工事 内容 | AB26: 担当工事 内容 | AJ26: 担当工事 内容 | AR26: 担当工事 内容 | AT26: =取説・目次!X33 -> 0 | AY26: 担当工事 内容 | BA26: =取説・目次!Q54 -> 0 | BF26: 担当工事 内容 | BH26: =取説・目次!AS54 -> 0 | BM26: 担当工事 内容 | BO26: =取説・目次!AL75 -> 0
I27: 工期 | L27: 年 月 日 ～ 年 月 日 | Q27: 工期 | T27: 年 月 日 ～ 年 月 日 | Y27: 工期 | AB27: 年 月 日 ～ 年 月 日 | AG27: 工期 | AJ27: 年 月 日 ～ 年 月 日 | AO27: 工期 | AR27: =DATESTRING(取説・目次!X26)&" ～ "&DATESTRING(取説・目次!AA26) -> 明治33年01月00日 ～ 明治33年01月00日 | AV27: 工期 | AY27: =DATESTRING(取説・目次!Q47)&" ～ "&DATESTRING(取説・目次!T47) -> 明治33年01月00日 ～ 明治33年01月00日 | BC27: 工期 | BF27: =DATESTRING(取説・目次!AS47)&" ～ "&DATESTRING(取説・目次!AV47) -> 明治33年01月00日 ～ 明治33年01月00日 | BJ27: 工期 | BM27: =DATESTRING(取説・目次!AL68)&" ～ "&DATESTRING(取説・目次!AO68) -> 明治33年01月00日 ～ 明治33年01月00日
I30: 工事 | K30: 会社名・事業者ID | Q30: 工事 | S30: 会社名・事業者ID | Y30: 工事 | AA30: 会社名・事業者ID | AG30: 工事 | AI30: 会社名・事業者ID | AN30: ③ | AO30: =取説・目次!AE28 -> 0 | AQ30: 会社名・事業者ID | AT30: =取説・目次!AE15&IF(取説・目次!AE16<>0,CHAR(10)&取説・目次!AE16,) | AU30: ⑦ | AV30: =取説・目次!X49 -> 0 | AX30: 会社名・事業者ID | BA30: =取説・目次!X36&IF(取説・目次!X37<>0,CHAR(10)&取説・目次!X37,) | BB30: ⑪ | BC30: =取説・目次!Q70 -> 0 | BE30: 会社名・事業者ID | BH30: =取説・目次!Q57&IF(取説・目次!Q58<>0,CHAR(10)&取説・目次!Q58,) | BI30: ⑮ | BJ30: =取説・目次!AS70 -> 0 | BL30: 会社名・事業者ID | BO30: =取説・目次!AS57&IF(取説・目次!AS58<>0,CHAR(10)&取説・目次!AS58,)
K31: 代表者名 | S31: 代表者名 | AA31: 代表者名 | AI31: 代表者名 | AQ31: 代表者名 | AT31: =取説・目次!AE20 -> 0 | AX31: 代表者名 | BA31: =取説・目次!X41 -> 0 | BE31: 代表者名 | BH31: =取説・目次!Q62 -> 0 | BL31: 代表者名 | BO31: =取説・目次!AS62 -> 0
K32: 許可番号 | S32: 許可番号 | AA32: 許可番号 | AI32: 許可番号 | AQ32: 許可番号 | AT32: =③A!Z20 -> 許可）第号 | AX32: 許可番号 | BA32: =⑦A!Z20 -> 許可）第号 | BE32: 許可番号 | BH32: =⑪A!Z20 -> 許可）第号 | BL32: 許可番号 | BO32: =⑮A!Z20 -> 許可）第号
K33: 一般 / 特定の別 | N33: 一般 / 特定 | S33: 一般 / 特定の別 | V33: 一般 / 特定 | AA33: 一般 / 特定の別 | AD33: 一般 / 特定 | AI33: 一般 / 特定の別 | AL33: 一般 / 特定 | AQ33: 一般 / 特定の別 | AT33: =取説・目次!AE23 -> 0 | AX33: 一般 / 特定の別 | BA33: =取説・目次!X44 -> 0 | BE33: 一般 / 特定の別 | BH33: =取説・目次!Q65 -> 0 | BL33: 一般 / 特定の別 | BO33: =取説・目次!AS65 -> 0
K34: 安全衛生責任者 | S34: 安全衛生責任者 | AA34: 安全衛生責任者 | AI34: 安全衛生責任者 | AQ34: 安全衛生責任者 | AT34: =取説・目次!AE31 -> 0 | AX34: 安全衛生責任者 | BA34: =取説・目次!X52 -> 0 | BE34: 安全衛生責任者 | BH34: =取説・目次!Q73 -> 0 | BL34: 安全衛生責任者 | BO34: =取説・目次!AS73 -> 0
K35: 主任技術者 | S35: 主任技術者 | AA35: 主任技術者 | AI35: 主任技術者 | AQ35: 主任技術者 | AT35: =取説・目次!AE29 -> 0 | AX35: 主任技術者 | BA35: =取説・目次!X50 -> 0 | BE35: 主任技術者 | BH35: =取説・目次!Q71 -> 0 | BL35: 主任技術者 | BO35: =取説・目次!AS71 -> 0
L36: 特定専門工事 の該当 | N36: 有 ・ 無 | T36: 特定専門工事 の該当 | V36: 有 ・ 無 | AB36: 特定専門工事 の該当 | AD36: 有 ・ 無 | AJ36: 特定専門工事 の該当 | AL36: 有 ・ 無 | AR36: 特定専門工事 の該当 | AT36: =取説・目次!AE30 -> 無 | AY36: 特定専門工事 の該当 | BA36: =取説・目次!X51 -> 0 | BF36: 特定専門工事 の該当 | BH36: =取説・目次!Q72 -> 0 | BM36: 特定専門工事 の該当 | BO36: =取説・目次!AS72 -> 0
K37: 専門技術者 | S37: 専門技術者 | AA37: 専門技術者 | AI37: 専門技術者 | AQ37: 専門技術者 | AT37: =取説・目次!AE32 -> 0 | AX37: 専門技術者 | BA37: =取説・目次!X53 -> 0 | BE37: 専門技術者 | BH37: =取説・目次!Q74 -> 0 | BL37: 専門技術者 | BO37: =取説・目次!AS74 -> 0
L38: 担当工事 内容 | T38: 担当工事 内容 | AB38: 担当工事 内容 | AJ38: 担当工事 内容 | AR38: 担当工事 内容 | AT38: =取説・目次!AE33 -> 0 | AY38: 担当工事 内容 | BA38: =取説・目次!X54 -> 0 | BF38: 担当工事 内容 | BH38: =取説・目次!Q75 -> 0 | BM38: 担当工事 内容 | BO38: =取説・目次!AS75 -> 0
I39: 工期 | L39: 年 月 日 ～ 年 月 日 | Q39: 工期 | T39: 年 月 日 ～ 年 月 日 | Y39: 工期 | AB39: 年 月 日 ～ 年 月 日 | AG39: 工期 | AJ39: 年 月 日 ～ 年 月 日 | AO39: 工期 | AR39: =DATESTRING(取説・目次!AE26)&" ～ "&DATESTRING(取説・目次!AH26) -> 明治33年01月00日 ～ 明治33年01月00日 | AV39: 工期 | AY39: =DATESTRING(取説・目次!X47)&" ～ "&DATESTRING(取説・目次!AA47) -> 明治33年01月00日 ～ 明治33年01月00日 | BC39: 工期 | BF39: =DATESTRING(取説・目次!Q68)&" ～ "&DATESTRING(取説・目次!T68) -> 明治33年01月00日 ～ 明治33年01月00日 | BJ39: 工期 | BM39: =DATESTRING(取説・目次!AS68)&" ～ "&DATESTRING(取説・目次!AV68) -> 明治33年01月00日 ～ 明治33年01月00日
I42: 工事 | K42: 会社名・事業者ID | Q42: 工事 | S42: 会社名・事業者ID | Y42: 工事 | AA42: 会社名・事業者ID | AG42: 工事 | AI42: 会社名・事業者ID | AN42: ④ | AO42: =取説・目次!AL28 -> 0 | AQ42: 会社名・事業者ID | AT42: =取説・目次!AL15&IF(取説・目次!AL16<>0,CHAR(10)&取説・目次!AL16,) | AU42: ⑧ | AV42: =取説・目次!AE49 -> 0 | AX42: 会社名・事業者ID | BA42: =取説・目次!AE36&IF(取説・目次!AE37<>0,CHAR(10)&取説・目次!AE37,) | BB42: ⑫ | BC42: =取説・目次!X70 -> 0 | BE42: 会社名・事業者ID | BH42: =取説・目次!X57&IF(取説・目次!X58<>0,CHAR(10)&取説・目次!X58,)
K43: 代表者名 | S43: 代表者名 | AA43: 代表者名 | AI43: 代表者名 | AQ43: 代表者名 | AT43: =取説・目次!AL20 -> 0 | AX43: 代表者名 | BA43: =取説・目次!AE41 -> 0 | BE43: 代表者名 | BH43: =取説・目次!X62 -> 0
K44: 許可番号 | S44: 許可番号 | AA44: 許可番号 | AI44: 許可番号 | AQ44: 許可番号 | AT44: =④A!Z20 -> 許可）第号 | AX44: 許可番号 | BA44: =⑧A!Z20 -> 許可）第号 | BE44: 許可番号 | BH44: =⑫A!Z20 -> 許可）第号
K45: 一般 / 特定の別 | N45: 一般 / 特定 | S45: 一般 / 特定の別 | V45: 一般 / 特定 | AA45: 一般 / 特定の別 | AD45: 一般 / 特定 | AI45: 一般 / 特定の別 | AL45: 一般 / 特定 | AQ45: 一般 / 特定の別 | AT45: =取説・目次!AL23 -> 0 | AX45: 一般 / 特定の別 | BA45: =取説・目次!AE44 -> 0 | BE45: 一般 / 特定の別 | BH45: =取説・目次!X65 -> 0
K46: 安全衛生責任者 | S46: 安全衛生責任者 | AA46: 安全衛生責任者 | AI46: 安全衛生責任者 | AQ46: 安全衛生責任者 | AT46: =取説・目次!AL31 -> 0 | AX46: 安全衛生責任者 | BA46: =取説・目次!AE52 -> 0 | BE46: 安全衛生責任者 | BH46: =取説・目次!X73 -> 0
K47: 主任技術者 | S47: 主任技術者 | AA47: 主任技術者 | AI47: 主任技術者 | AQ47: 主任技術者 | AT47: =取説・目次!AL29 -> 0 | AX47: 主任技術者 | BA47: =取説・目次!AE50 -> 0 | BE47: 主任技術者 | BH47: =取説・目次!X71 -> 0
L48: 特定専門工事 の該当 | N48: 有 ・ 無 | T48: 特定専門工事 の該当 | V48: 有 ・ 無 | AB48: 特定専門工事 の該当 | AD48: 有 ・ 無 | AJ48: 特定専門工事 の該当 | AL48: 有 ・ 無 | AR48: 特定専門工事 の該当 | AT48: =取説・目次!AL30 -> 無 | AY48: 特定専門工事 の該当 | BA48: =取説・目次!AE51 -> 0 | BF48: 特定専門工事 の該当 | BH48: =取説・目次!X72 -> 0
...

Sheet ①
B1: 様式－１６（１） | AE1: 令和 | AH1: 年 | AK1: 月 | AN1: 日 | AS1: 様式－１６（２） | CG1: 取説・目次へ戻る | DA1: 土木
DA2: 建築
A3: 施工体制台帳 | AR3: 《下請負人に関する事項》 | DA3: 大工
DA4: 左官
B5: ［会社名］ | H5: =取説・目次!G25 -> 株式会社 甲府工務店 | AS5: 会社名 | AY5: =取説・目次!Q15 -> 市役所工業 | BN5: 代表者名 | BT5: =取説・目次!Q20 -> 甲府 ○太 | DA5: とび・土工
DA6: 石
B7: ［事業所名］ | H7: =取説・目次!G43 -> ○○建設甲府営業所 | DA7: 屋根
AS8: 住所 | AY8: =取説・目次!Q17 -> 甲府市○○ | DA8: 電気
B9: 建設業の 許可 | H9: 許 可 業 種 | R9: 許 可 番 号 | AF9: 許可（更新）年月日 | DA9: 管
DA10: タイル・れんが・ブロック
H11: =取説・目次!G45 -> 土木 | O11: 工事業 | R11: =取説・目次!G46 -> 大臣 | T11: =取説・目次!H46 -> 特定 | W11: =取説・目次!I46 -> 29 | Z11: 第 | AA11: =取説・目次!J46 -> 1 | AE11: 号 | AF11: =取説・目次!G47 -> 44383 | AS11: 工事名称 及び 工事内容 | AY11: =H16 -> ○○○○○○工事 | DA11: 鋼構造物
DA12: 鉄筋
H13: =取説・目次!G48 -> 0 | O13: 工事業 | R13: =取説・目次!G49 -> 0 | T13: =取説・目次!H49 -> 0 | W13: =取説・目次!I49 -> 0 | Z13: 第 | AA13: =取説・目次!J49 -> 0 | AE13: 号 | AF13: =取説・目次!G50 -> 0 | AY13: =取説・目次!Q28 -> △△△工事 | DA13: ほ装
AS14: 工期 | AY14: 自 | BA14: =取説・目次!Q26 -> 44384 | BN14: 契約日 | DA14: しゅんせつ
BU15: =取説・目次!Q25 -> 44353 | DA15: 板金
B16: 工事名称 及び 工事内容 | H16: =取説・目次!G15 -> ○○○○○○工事 | AY16: 至 | BA16: =取説・目次!T26 -> 44416 | DA16: ガラス
H17: =取説・目次!G17 -> RC造○階建て○○○改修○○○㎡ | DA17: 塗装
H18: =取説・目次!G18 -> ○○工事一式、○○工事一式 | AS18: 建設業の 許可 | AY18: 施工に必要な許可業種 | BI18: 許 可 番 号 | BW18: 許可（更新）年月日 | DA18: 防水
B19: 発注者名 及び 住所 | H19: =IF(取説・目次!G37="甲府地区広域行政事務組合","甲府地区広域行政事務組合 ","")&IF(取説・目次!G37="甲府地区広域行政事務組合","管理者 ","甲府市長 ")&取説・目次!G36 -> 甲府市長 樋口 雄一 | DA19: 内装仕上
BI20: =RIGHT(取説・目次!Q22,2) -> 知事 | BK20: =取説・目次!Q23 -> 特定 | BN20: =取説・目次!R23 -> 30 | BQ20: 第 | BR20: =取説・目次!T23 -> 99999 | BV20: 号 | BW20: =取説・目次!Q24 -> 44324 | DA20: 機械器具設置
H21: 甲府市丸の内一丁目１８番１号 | DA21: 熱絶縁
B22: 工期 | H22: 自 | J22: =取説・目次!G21 -> 44288 | W22: 契約日 | AC22: =取説・目次!G20 -> 44287 | BQ22: 第 | BV22: 号 | DA22: 電気通信
DA23: 造園
H24: 至 | J24: =取説・目次!G22 -> 44289 | DA24: さく井
AS25: 健康保険等の加入状況 | AZ25: 保険加入の有無 | BE25: 健康保険 | BO25: 厚生年金保険 | BX25: 雇用保険 | DA25: 建具
B26: 契約 営業所 | I26: 区分 | N26: 名 称 | AC26: 住 所 | DA26: 水道施設
BE27: 加入 | BO27: 加入 | BX27: 加入 | DA27: 消防施設
I28: 元請契約 | N28: =取説・目次!G53 -> 株式会社 甲府工務店 | AC28: =取説・目次!G54 -> 甲府市○-○-○ | DA28: 掃施設
AY29: 事業所 整理記号等 | BE29: 営業所の名称 | BL29: 健康保険 | BT29: 厚生年金保険 | CA29: 雇用保険 | DA29: 解体
I30: 下請契約 | N30: =取説・目次!G58 -> 同上 | AC30: =取説・目次!G59 -> 同上
BE31: =AY5 -> 市役所工業
B33: 健康保険等の加入状況 | I33: 保険加入の有無 | N33: 健康保険 | X33: 厚生年金保険 | AG33: 雇用保険
AR34: 現場代理人名 | BM34: 安全衛生責任者名 | BV34: =取説・目次!Q31 -> 山梨 □□
N35: =取説・目次!G55 -> 加入 | X35: =取説・目次!G56 -> 加入 | AG35: =取説・目次!G57 -> 加入
AT36: 権限及び 意見申出方法 | BM36: 安全衛生推進者名
H37: 事業所 整理記号等 | N37: 区分 | R37: 営業所の名称 | Y37: 健康保険 | AE37: 厚生年金保険 | AK37: 雇用保険
AR38: 主任技術者名 | BD38: =取説・目次!Q29 -> 甲府 ○○ | BM38: 雇用管理責任者名
N39: 元請契約 | R39: =取説・目次!G53 -> 株式会社 甲府工務店 | Y39: =取説・目次!I55 -> 甲あああ8888 | AE39: =取説・目次!I56 -> 甲ううう7777 | AK39: =取説・目次!I57 -> 12345-67890-123
AT40: 資格内容 | BM40: 専門技術者名 | BV40: =取説・目次!Q32 -> 甲府 △△
N41: 下請契約 | R41: =取説・目次!G58 -> 同上 | Y41: =取説・目次!I60 -> 同上 | AE41: =取説・目次!I61 -> 同上 | AK41: =取説・目次!I62 -> 同上
...

Sheet ①A
K1: 請負工事一部下請負届 | BC1: 取説・目次へ戻る
AK2: =材料承諾願!I2 -> (建築工)契約第000001号
AM3: 令和 | AR3: 年 | AV3: 月 | AZ3: 日
B4: =IF(取説・目次!G37="甲府地区広域行政事務組合","(あて先）甲府地区広域行政事務組合 管理者","（あて先）甲 府 市 長") -> （あて先）甲 府 市 長
Z6: 請負者 | AE6: 住 所 | AI6: =材料承諾願!H9 -> 甲府市○-○-○
AE8: 氏 名 | AI8: =材料承諾願!H10 -> 株式会社 甲府工務店
AI9: =材料承諾願!H11 -> 代表取締役 甲府 太郎 | AY9: ㊞
B11: 工事名 | M11: =材料承諾願!F16 -> ○○○○○○工事
B12: 工事場所 | M12: =材料承諾願!F18 -> 甲府市○○-○-○
B13: 契約年月日 | M13: =材料承諾願!F20 -> 44287
B14: 工期 | P14: 着工 | U14: =材料承諾願!F22 -> 44288
P15: 完成 | U15: =材料承諾願!F24 -> 44289
B16: 請負代金額 | U16: =材料承諾願!F26 -> 88888888 | AM16: 円
B17: 下請負者 | N17: 住所 | Z17: =取説・目次!Q17 -> 甲府市○○
N18: 氏名 | Z18: =取説・目次!Q15 -> 市役所工業
Z19: =取説・目次!Q18&" "&取説・目次!Q20 -> 代表 甲府 ○太
N20: 建設業許可番号 | Z20: =取説・目次!Q22&"許可"&IF(取説・目次!Q23="特定","（特-",IF(取説・目次!Q23="一般","（般-",))&取説・目次!R23&"）第"&取説・目次!T23&"号" -> ○○○○知事許可（特-30）第99999号
B21: 下請負の範囲 | N21: =取説・目次!Q28 -> △△△工事
B22: 下請負の理由
B23: 下請負工事金額 | U23: =取説・目次!Q27 -> 8888888 | AK23: 円
D24: =材料承諾願!E46 -> 教育部 教育総室 教育施設課 | AK24: 摘 要
A27: 監督員 | L27: 係 長 | X27: 課 長
A35: =IF(D24="甲府地区広域行政事務組合","甲府地区広域行政事務組合","契約管財室 指導検査課") -> 契約管財室 指導検査課 | O35: =IF(D24="甲府地区広域行政事務組合","甲府地区広域行政事務組合","総務部 契約管財室 契約課") -> 総務部 契約管財室 契約課
A38: 係 長 | H38: 課 長 | O38: 担当者 | V38: 係 長 | AC38: 課 長
AQ46: 第16号様式

Sheet ②
B1: 様式－１６（１） | AE1: 令和 | AH1: 年 | AK1: 月 | AN1: 日 | AS1: 様式－１６（２） | CG1: 取説・目次へ戻る | DA1: 土木
DA2: 建築
A3: 施工体制台帳 | AR3: 《下請負人に関する事項》 | DA3: 大工
DA4: 左官
B5: ［会社名］ | H5: =取説・目次!G25 -> 株式会社 甲府工務店 | AS5: 会社名 | AY5: =取説・目次!X15 -> 0 | BN5: 代表者名 | BT5: =取説・目次!X20 -> 0 | DA5: とび・土工
DA6: 石
B7: ［事業所名］ | H7: =取説・目次!G43 -> ○○建設甲府営業所 | DA7: 屋根
AS8: 住所 | AY8: =取説・目次!X17 -> 0 | DA8: 電気
B9: 建設業の 許可 | H9: 許 可 業 種 | R9: 許 可 番 号 | AF9: 許可（更新）年月日 | DA9: 管
DA10: タイル・れんが・ブロック
H11: =取説・目次!G45 -> 土木 | O11: 工事業 | R11: =取説・目次!G46 -> 大臣 | T11: =取説・目次!H46 -> 特定 | W11: =取説・目次!I46 -> 29 | Z11: 第 | AA11: =取説・目次!J46 -> 1 | AE11: 号 | AF11: =取説・目次!G47 -> 44383 | AS11: 工事名称 及び 工事内容 | AY11: =H16 -> ○○○○○○工事 | DA11: 鋼構造物
DA12: 鉄筋
H13: =取説・目次!G48 -> 0 | O13: 工事業 | R13: =取説・目次!G49 -> 0 | T13: =取説・目次!H49 -> 0 | W13: =取説・目次!I49 -> 0 | Z13: 第 | AA13: =取説・目次!J49 -> 0 | AE13: 号 | AF13: =取説・目次!G50 -> 0 | AY13: =取説・目次!X28 -> 0 | DA13: ほ装
AS14: 工期 | AY14: 自 | BA14: =取説・目次!X26 -> 0 | BN14: 契約日 | DA14: しゅんせつ
BU15: =取説・目次!X25 -> 0 | DA15: 板金
B16: 工事名称 及び 工事内容 | H16: =取説・目次!G15 -> ○○○○○○工事 | AY16: 至 | BA16: =取説・目次!AA26 -> 0 | DA16: ガラス
H17: =取説・目次!G17 -> RC造○階建て○○○改修○○○㎡ | DA17: 塗装
H18: =取説・目次!G18 -> ○○工事一式、○○工事一式 | AS18: 建設業の 許可 | AY18: 施工に必要な許可業種 | BI18: 許 可 番 号 | BW18: 許可（更新）年月日 | DA18: 防水
B19: 発注者名 及び 住所 | H19: =IF(取説・目次!G37="甲府地区広域行政事務組合","甲府地区広域行政事務組合 ","")&IF(取説・目次!G37="甲府地区広域行政事務組合","管理者 ","甲府市長 ")&取説・目次!G36 -> 甲府市長 樋口 雄一 | DA19: 内装仕上
BI20: =RIGHT(取説・目次!X22,2) | BK20: =取説・目次!X23 -> 0 | BN20: =取説・目次!Y23 -> 0 | BQ20: 第 | BR20: =取説・目次!AA23 -> 0 | BV20: 号 | BW20: =取説・目次!X24 -> 0 | DA20: 機械器具設置
H21: 甲府市丸の内一丁目１８番１号 | DA21: 熱絶縁
B22: 工期 | H22: 自 | J22: =取説・目次!G21 -> 44288 | W22: 契約日 | AC22: =取説・目次!G20 -> 44287 | BQ22: 第 | BV22: 号 | DA22: 電気通信
DA23: 造園
H24: 至 | J24: =取説・目次!G22 -> 44289 | DA24: さく井
AS25: 健康保険等の加入状況 | AZ25: 保険加入の有無 | BE25: 健康保険 | BO25: 厚生年金保険 | BX25: 雇用保険 | DA25: 建具
B26: 契約 営業所 | I26: 区分 | N26: 名 称 | AC26: 住 所 | DA26: 水道施設
BE27: 加入 | BO27: 加入 | BX27: 加入 | DA27: 消防施設
I28: 元請契約 | N28: =取説・目次!G53 -> 株式会社 甲府工務店 | AC28: =取説・目次!G54 -> 甲府市○-○-○ | DA28: 掃施設
AY29: 事業所 整理記号等 | BE29: 営業所の名称 | BL29: 健康保険 | BT29: 厚生年金保険 | CA29: 雇用保険 | DA29: 解体
I30: 下請契約 | N30: =取説・目次!G58 -> 同上 | AC30: =取説・目次!G59 -> 同上
B33: 健康保険等の加入状況 | I33: 保険加入の有無 | N33: 健康保険 | X33: 厚生年金保険 | AG33: 雇用保険
AR34: 現場代理人名 | BM34: 安全衛生責任者名 | BV34: =取説・目次!X31 -> 0
N35: =取説・目次!G55 -> 加入 | X35: =取説・目次!G56 -> 加入 | AG35: =取説・目次!G57 -> 加入
AT36: 権限及び 意見申出方法 | BM36: 安全衛生推進者名
H37: 事業所 整理記号等 | N37: 区分 | R37: 営業所の名称 | Y37: 健康保険 | AE37: 厚生年金保険 | AK37: 雇用保険
AR38: 主任技術者名 | BD38: =取説・目次!X29 -> 0 | BM38: 雇用管理責任者名
N39: 元請契約 | R39: =取説・目次!G53 -> 株式会社 甲府工務店 | Y39: =取説・目次!I55 -> 甲あああ8888 | AE39: =取説・目次!I56 -> 甲ううう7777 | AK39: =取説・目次!I57 -> 12345-67890-123
AT40: 資格内容 | BM40: 専門技術者名 | BV40: =取説・目次!X32 -> 0
N41: 下請契約 | R41: =取説・目次!G58 -> 同上 | Y41: =取説・目次!I60 -> 同上 | AE41: =取説・目次!I61 -> 同上 | AK41: =取説・目次!I62 -> 同上
BO42: 資格内容
...

Sheet ②A
K1: 請負工事一部下請負届 | BC1: 取説・目次へ戻る
AK2: =材料承諾願!I2 -> (建築工)契約第000001号
AM3: 令和 | AR3: 年 | AV3: 月 | AZ3: 日
B4: =IF(取説・目次!G37="甲府地区広域行政事務組合","(あて先）甲府地区広域行政事務組合 管理者","（あて先）甲 府 市 長") -> （あて先）甲 府 市 長
Z6: 請負者 | AE6: 住 所 | AI6: =材料承諾願!H9 -> 甲府市○-○-○
AE8: 氏 名 | AI8: =材料承諾願!H10 -> 株式会社 甲府工務店
AI9: =材料承諾願!H11 -> 代表取締役 甲府 太郎 | AY9: ㊞
B11: 工事名 | M11: =材料承諾願!F16 -> ○○○○○○工事
B12: 工事場所 | M12: =材料承諾願!F18 -> 甲府市○○-○-○
B13: 契約年月日 | M13: =材料承諾願!F20 -> 44287
B14: 工期 | P14: 着工 | U14: =材料承諾願!F22 -> 44288
P15: 完成 | U15: =材料承諾願!F24 -> 44289
B16: 請負代金額 | U16: =材料承諾願!F26 -> 88888888 | AM16: 円
B17: 下請負者 | N17: 住所 | Z17: =取説・目次!X17 -> 0
N18: 氏名 | Z18: =取説・目次!X15 -> 0
Z19: =取説・目次!X18&" "&取説・目次!X20
N20: 建設業許可番号 | Z20: =取説・目次!X22&"許可"&IF(取説・目次!X23="特定","（特-",IF(取説・目次!X23="一般","（般-",))&取説・目次!Y23&"）第"&取説・目次!AA23&"号" -> 許可）第号
B21: 下請負の範囲 | N21: =取説・目次!X28 -> 0
B22: 下請負の理由
B23: 下請負工事金額 | U23: =取説・目次!X27 -> 0 | AK23: 円
D24: =材料承諾願!E46 -> 教育部 教育総室 教育施設課 | AK24: 摘 要
A27: 監督員 | L27: 係 長 | X27: 課 長
A35: =IF(D24="甲府地区広域行政事務組合","甲府地区広域行政事務組合","契約管財室 指導検査課") -> 契約管財室 指導検査課 | O35: =IF(D24="甲府地区広域行政事務組合","甲府地区広域行政事務組合","総務部 契約管財室 契約課") -> 総務部 契約管財室 契約課
A38: 係 長 | H38: 課 長 | O38: 担当者 | V38: 係 長 | AC38: 課 長
AQ46: 第16号様式

Sheet ③
B1: 様式－１６（１） | AE1: 令和 | AH1: 年 | AK1: 月 | AN1: 日 | AS1: 様式－１６（２） | CG1: 取説・目次へ戻る | DA1: 土木
DA2: 建築
A3: 施工体制台帳 | AR3: 《下請負人に関する事項》 | DA3: 大工
DA4: 左官
B5: ［会社名］ | H5: =取説・目次!G25 -> 株式会社 甲府工務店 | AS5: 会社名 | AY5: =取説・目次!AE15 -> 0 | BN5: 代表者名 | BT5: =取説・目次!AE20 -> 0 | DA5: とび・土工
DA6: 石
B7: ［事業所名］ | H7: =取説・目次!G43 -> ○○建設甲府営業所 | DA7: 屋根
AS8: 住所 | AY8: =取説・目次!AE17 -> 0 | DA8: 電気
B9: 建設業の 許可 | H9: 許 可 業 種 | R9: 許 可 番 号 | AF9: 許可（更新）年月日 | DA9: 管
DA10: タイル・れんが・ブロック
H11: =取説・目次!G45 -> 土木 | O11: 工事業 | R11: =取説・目次!G46 -> 大臣 | T11: =取説・目次!H46 -> 特定 | W11: =取説・目次!I46 -> 29 | Z11: 第 | AA11: =取説・目次!J46 -> 1 | AE11: 号 | AF11: =取説・目次!G47 -> 44383 | AS11: 工事名称 及び 工事内容 | AY11: =H16 -> ○○○○○○工事 | DA11: 鋼構造物
DA12: 鉄筋
H13: =取説・目次!G48 -> 0 | O13: 工事業 | R13: =取説・目次!G49 -> 0 | T13: =取説・目次!H49 -> 0 | W13: =取説・目次!I49 -> 0 | Z13: 第 | AA13: =取説・目次!J49 -> 0 | AE13: 号 | AF13: =取説・目次!G50 -> 0 | AY13: =取説・目次!AE28 -> 0 | DA13: ほ装
AS14: 工期 | AY14: 自 | BA14: =取説・目次!AE26 -> 0 | BN14: 契約日 | DA14: しゅんせつ
BU15: =取説・目次!AE25 -> 0 | DA15: 板金
B16: 工事名称 及び 工事内容 | H16: =取説・目次!G15 -> ○○○○○○工事 | AY16: 至 | BA16: =取説・目次!AH26 -> 0 | DA16: ガラス
H17: =取説・目次!G17 -> RC造○階建て○○○改修○○○㎡ | DA17: 塗装
H18: =取説・目次!G18 -> ○○工事一式、○○工事一式 | AS18: 建設業の 許可 | AY18: 施工に必要な許可業種 | BI18: 許 可 番 号 | BW18: 許可（更新）年月日 | DA18: 防水
B19: 発注者名 及び 住所 | H19: =IF(取説・目次!G37="甲府地区広域行政事務組合","甲府地区広域行政事務組合 ","")&IF(取説・目次!G37="甲府地区広域行政事務組合","管理者 ","甲府市長 ")&取説・目次!G36 -> 甲府市長 樋口 雄一 | DA19: 内装仕上
BI20: =RIGHT(取説・目次!AE22,2) | BK20: =取説・目次!AE23 -> 0 | BN20: =取説・目次!AF23 -> 0 | BQ20: 第 | BR20: =取説・目次!AH23 -> 0 | BV20: 号 | BW20: =取説・目次!AE24 -> 0 | DA20: 機械器具設置
H21: 甲府市丸の内一丁目１８番１号 | DA21: 熱絶縁
B22: 工期 | H22: 自 | J22: =取説・目次!G21 -> 44288 | W22: 契約日 | AC22: =取説・目次!G20 -> 44287 | BQ22: 第 | BV22: 号 | DA22: 電気通信
DA23: 造園
H24: 至 | J24: =取説・目次!G22 -> 44289 | DA24: さく井
AS25: 健康保険等の加入状況 | AZ25: 保険加入の有無 | BE25: 健康保険 | BO25: 厚生年金保険 | BX25: 雇用保険 | DA25: 建具
B26: 契約 営業所 | I26: 区分 | N26: 名 称 | AC26: 住 所 | DA26: 水道施設
BE27: 加入 | BO27: 加入 | BX27: 加入 | DA27: 消防施設
I28: 元請契約 | N28: =取説・目次!G53 -> 株式会社 甲府工務店 | AC28: =取説・目次!G54 -> 甲府市○-○-○ | DA28: 掃施設
AY29: 事業所 整理記号等 | BE29: 営業所の名称 | BL29: 健康保険 | BT29: 厚生年金保険 | CA29: 雇用保険 | DA29: 解体
I30: 下請契約 | N30: =取説・目次!G58 -> 同上 | AC30: =取説・目次!G59 -> 同上
B33: 健康保険等の加入状況 | I33: 保険加入の有無 | N33: 健康保険 | X33: 厚生年金保険 | AG33: 雇用保険
AR34: 現場代理人名 | BM34: 安全衛生責任者名 | BV34: =取説・目次!AL31 -> 0
N35: =取説・目次!G55 -> 加入 | X35: =取説・目次!G56 -> 加入 | AG35: =取説・目次!G57 -> 加入
AT36: 権限及び 意見申出方法 | BM36: 安全衛生推進者名
H37: 事業所 整理記号等 | N37: 区分 | R37: 営業所の名称 | Y37: 健康保険 | AE37: 厚生年金保険 | AK37: 雇用保険
AR38: 主任技術者名 | BD38: =取説・目次!AE29 -> 0 | BM38: 雇用管理責任者名
N39: 元請契約 | R39: =取説・目次!G53 -> 株式会社 甲府工務店 | Y39: =取説・目次!I55 -> 甲あああ8888 | AE39: =取説・目次!I56 -> 甲ううう7777 | AK39: =取説・目次!I57 -> 12345-67890-123
AT40: 資格内容 | BM40: 専門技術者名 | BV40: =取説・目次!AE32 -> 0
N41: 下請契約 | R41: =取説・目次!G58 -> 同上 | Y41: =取説・目次!I60 -> 同上 | AE41: =取説・目次!I61 -> 同上 | AK41: =取説・目次!I62 -> 同上
BO42: 資格内容
...

Sheet ③A
K1: 請負工事一部下請負届 | BC1: 取説・目次へ戻る
AK2: =材料承諾願!I2 -> (建築工)契約第000001号
AM3: 令和 | AR3: 年 | AV3: 月 | AZ3: 日
B4: =IF(取説・目次!G37="甲府地区広域行政事務組合","(あて先）甲府地区広域行政事務組合 管理者","（あて先）甲 府 市 長") -> （あて先）甲 府 市 長
Z6: 請負者 | AE6: 住 所 | AI6: =材料承諾願!H9 -> 甲府市○-○-○
AE8: 氏 名 | AI8: =材料承諾願!H10 -> 株式会社 甲府工務店
AI9: =材料承諾願!H11 -> 代表取締役 甲府 太郎 | AY9: ㊞
B11: 工事名 | M11: =材料承諾願!F16 -> ○○○○○○工事
B12: 工事場所 | M12: =材料承諾願!F18 -> 甲府市○○-○-○
B13: 契約年月日 | M13: =材料承諾願!F20 -> 44287
B14: 工期 | P14: 着工 | U14: =材料承諾願!F22 -> 44288
P15: 完成 | U15: =材料承諾願!F24 -> 44289
B16: 請負代金額 | U16: =材料承諾願!F26 -> 88888888 | AM16: 円
B17: 下請負者 | N17: 住所 | Z17: =取説・目次!AE17 -> 0
N18: 氏名 | Z18: =取説・目次!AE15 -> 0
Z19: =取説・目次!AE18&" "&取説・目次!AE20
N20: 建設業許可番号 | Z20: =取説・目次!AE22&"許可"&IF(取説・目次!AE23="特定","（特-",IF(取説・目次!AE23="一般","（般-",))&取説・目次!AF23&"）第"&取説・目次!AH23&"号" -> 許可）第号
B21: 下請負の範囲 | N21: =取説・目次!AE28 -> 0
B22: 下請負の理由
B23: 下請負工事金額 | U23: =取説・目次!AE27 -> 0 | AK23: 円
D24: =材料承諾願!E46 -> 教育部 教育総室 教育施設課 | AK24: 摘 要
A27: 監督員 | L27: 係 長 | X27: 課 長
A35: =IF(D24="甲府地区広域行政事務組合","甲府地区広域行政事務組合","契約管財室 指導検査課") -> 契約管財室 指導検査課 | O35: =IF(D24="甲府地区広域行政事務組合","甲府地区広域行政事務組合","総務部 契約管財室 契約課") -> 総務部 契約管財室 契約課
A38: 係 長 | H38: 課 長 | O38: 担当者 | V38: 係 長 | AC38: 課 長
AQ46: 第16号様式

Sheet ④
B1: 様式－１６（１） | AE1: 令和 | AH1: 年 | AK1: 月 | AN1: 日 | AS1: 様式－１６（２） | CG1: 取説・目次へ戻る | DA1: 土木
DA2: 建築
A3: 施工体制台帳 | AR3: 《下請負人に関する事項》 | DA3: 大工
DA4: 左官
B5: ［会社名］ | H5: =取説・目次!G25 -> 株式会社 甲府工務店 | AS5: 会社名 | AY5: =取説・目次!AL15 -> 0 | BN5: 代表者名 | BT5: =取説・目次!AL20 -> 0 | DA5: とび・土工
DA6: 石
B7: ［事業所名］ | H7: =取説・目次!G43 -> ○○建設甲府営業所 | DA7: 屋根
AS8: 住所 | AY8: =取説・目次!AL17 -> 0 | DA8: 電気
B9: 建設業の 許可 | H9: 許 可 業 種 | R9: 許 可 番 号 | AF9: 許可（更新）年月日 | DA9: 管
DA10: タイル・れんが・ブロック
H11: =取説・目次!G45 -> 土木 | O11: 工事業 | R11: =取説・目次!G46 -> 大臣 | T11: =取説・目次!H46 -> 特定 | W11: =取説・目次!I46 -> 29 | Z11: 第 | AA11: =取説・目次!J46 -> 1 | AE11: 号 | AF11: =取説・目次!G47 -> 44383 | AS11: 工事名称 及び 工事内容 | AY11: =H16 -> ○○○○○○工事 | DA11: 鋼構造物
DA12: 鉄筋
H13: =取説・目次!G48 -> 0 | O13: 工事業 | R13: =取説・目次!G49 -> 0 | T13: =取説・目次!H49 -> 0 | W13: =取説・目次!I49 -> 0 | Z13: 第 | AA13: =取説・目次!J49 -> 0 | AE13: 号 | AF13: =取説・目次!G50 -> 0 | AY13: =取説・目次!AL28 -> 0 | DA13: ほ装
AS14: 工期 | AY14: 自 | BA14: =取説・目次!AL26 -> 0 | BN14: 契約日 | DA14: しゅんせつ
BU15: =取説・目次!AL25 -> 0 | DA15: 板金
B16: 工事名称 及び 工事内容 | H16: =取説・目次!G15 -> ○○○○○○工事 | AY16: 至 | BA16: =取説・目次!AO26 -> 0 | DA16: ガラス
H17: =取説・目次!G17 -> RC造○階建て○○○改修○○○㎡ | DA17: 塗装
H18: =取説・目次!G18 -> ○○工事一式、○○工事一式 | AS18: 建設業の 許可 | AY18: 施工に必要な許可業種 | BI18: 許 可 番 号 | BW18: 許可（更新）年月日 | DA18: 防水
B19: 発注者名 及び 住所 | H19: =IF(取説・目次!G37="甲府地区広域行政事務組合","甲府地区広域行政事務組合 ","")&IF(取説・目次!G37="甲府地区広域行政事務組合","管理者 ","甲府市長 ")&取説・目次!G36 -> 甲府市長 樋口 雄一 | DA19: 内装仕上
BI20: =RIGHT(取説・目次!AL22,2) | BK20: =取説・目次!AL23 -> 0 | BN20: =取説・目次!AM23 -> 0 | BQ20: 第 | BR20: =取説・目次!AO23 -> 0 | BV20: 号 | BW20: =取説・目次!AL24 -> 0 | DA20: 機械器具設置
H21: 甲府市丸の内一丁目１８番１号 | DA21: 熱絶縁
B22: 工期 | H22: 自 | J22: =取説・目次!G21 -> 44288 | W22: 契約日 | AC22: =取説・目次!G20 -> 44287 | BQ22: 第 | BV22: 号 | DA22: 電気通信
DA23: 造園
H24: 至 | J24: =取説・目次!G22 -> 44289 | DA24: さく井
AS25: 健康保険等の加入状況 | AZ25: 保険加入の有無 | BE25: 健康保険 | BO25: 厚生年金保険 | BX25: 雇用保険 | DA25: 建具
B26: 契約 営業所 | I26: 区分 | N26: 名 称 | AC26: 住 所 | DA26: 水道施設
BE27: 加入 | BO27: 加入 | BX27: 加入 | DA27: 消防施設
I28: 元請契約 | N28: =取説・目次!G53 -> 株式会社 甲府工務店 | AC28: =取説・目次!G54 -> 甲府市○-○-○ | DA28: 掃施設
AY29: 事業所 整理記号等 | BE29: 営業所の名称 | BL29: 健康保険 | BT29: 厚生年金保険 | CA29: 雇用保険 | DA29: 解体
I30: 下請契約 | N30: =取説・目次!G58 -> 同上 | AC30: =取説・目次!G59 -> 同上
B33: 健康保険等の加入状況 | I33: 保険加入の有無 | N33: 健康保険 | X33: 厚生年金保険 | AG33: 雇用保険
AR34: 現場代理人名 | BM34: 安全衛生責任者名 | BV34: =取説・目次!AL31 -> 0
N35: =取説・目次!G55 -> 加入 | X35: =取説・目次!G56 -> 加入 | AG35: =取説・目次!G57 -> 加入
AT36: 権限及び 意見申出方法 | BM36: 安全衛生推進者名
H37: 事業所 整理記号等 | N37: 区分 | R37: 営業所の名称 | Y37: 健康保険 | AE37: 厚生年金保険 | AK37: 雇用保険
AR38: 主任技術者名 | BD38: =取説・目次!AL29 -> 0 | BM38: 雇用管理責任者名
N39: 元請契約 | R39: =取説・目次!G53 -> 株式会社 甲府工務店 | Y39: =取説・目次!I55 -> 甲あああ8888 | AE39: =取説・目次!I56 -> 甲ううう7777 | AK39: =取説・目次!I57 -> 12345-67890-123
AT40: 資格内容 | BM40: 専門技術者名 | BV40: =取説・目次!AL32 -> 0
N41: 下請契約 | R41: =取説・目次!G58 -> 同上 | Y41: =取説・目次!I60 -> 同上 | AE41: =取説・目次!I61 -> 同上 | AK41: =取説・目次!I62 -> 同上
BO42: 資格内容
...

Sheet ④A
K1: 請負工事一部下請負届 | BC1: 取説・目次へ戻る
AK2: =材料承諾願!I2 -> (建築工)契約第000001号
AM3: 令和 | AR3: 年 | AV3: 月 | AZ3: 日
B4: =IF(取説・目次!G37="甲府地区広域行政事務組合","(あて先）甲府地区広域行政事務組合 管理者","（あて先）甲 府 市 長") -> （あて先）甲 府 市 長
Z6: 請負者 | AE6: 住 所 | AI6: =材料承諾願!H9 -> 甲府市○-○-○
AE8: 氏 名 | AI8: =材料承諾願!H10 -> 株式会社 甲府工務店
AI9: =材料承諾願!H11 -> 代表取締役 甲府 太郎 | AY9: ㊞
B11: 工事名 | M11: =材料承諾願!F16 -> ○○○○○○工事
B12: 工事場所 | M12: =材料承諾願!F18 -> 甲府市○○-○-○
B13: 契約年月日 | M13: =材料承諾願!F20 -> 44287
B14: 工期 | P14: 着工 | U14: =材料承諾願!F22 -> 44288
P15: 完成 | U15: =材料承諾願!F24 -> 44289
B16: 請負代金額 | U16: =材料承諾願!F26 -> 88888888 | AM16: 円
B17: 下請負者 | N17: 住所 | Z17: =取説・目次!AL17 -> 0
N18: 氏名 | Z18: =取説・目次!AL15 -> 0
Z19: =取説・目次!AL18&" "&取説・目次!AL20
N20: 建設業許可番号 | Z20: =取説・目次!AL22&"許可"&IF(取説・目次!AL23="特定","（特-",IF(取説・目次!AL23="一般","（般-",))&取説・目次!AM23&"）第"&取説・目次!AO23&"号" -> 許可）第号
B21: 下請負の範囲 | N21: =取説・目次!AL28 -> 0
B22: 下請負の理由
B23: 下請負工事金額 | U23: =取説・目次!AL27 -> 0 | AK23: 円
D24: =材料承諾願!E46 -> 教育部 教育総室 教育施設課 | AK24: 摘 要
A27: 監督員 | L27: 係 長 | X27: 課 長
A35: =IF(D24="甲府地区広域行政事務組合","甲府地区広域行政事務組合","契約管財室 指導検査課") -> 契約管財室 指導検査課 | O35: =IF(D24="甲府地区広域行政事務組合","甲府地区広域行政事務組合","総務部 契約管財室 契約課") -> 総務部 契約管財室 契約課
A38: 係 長 | H38: 課 長 | O38: 担当者 | V38: 係 長 | AC38: 課 長
AQ46: 第16号様式

Sheet ⑤
B1: 様式－１６（１） | AE1: 令和 | AH1: 年 | AK1: 月 | AN1: 日 | AS1: 様式－１６（２） | CG1: 取説・目次へ戻る | DA1: 土木
DA2: 建築
A3: 施工体制台帳 | AR3: 《下請負人に関する事項》 | DA3: 大工
DA4: 左官
B5: ［会社名］ | H5: =取説・目次!G25 -> 株式会社 甲府工務店 | AS5: 会社名 | AY5: =取説・目次!AS15 -> 0 | BN5: 代表者名 | BT5: =取説・目次!AS20 -> 0 | DA5: とび・土工
DA6: 石
B7: ［事業所名］ | H7: =取説・目次!G43 -> ○○建設甲府営業所 | DA7: 屋根
AS8: 住所 | AY8: =取説・目次!AS17 -> 0 | DA8: 電気
B9: 建設業の 許可 | H9: 許 可 業 種 | R9: 許 可 番 号 | AF9: 許可（更新）年月日 | DA9: 管
DA10: タイル・れんが・ブロック
H11: =取説・目次!G45 -> 土木 | O11: 工事業 | R11: =取説・目次!G46 -> 大臣 | T11: =取説・目次!H46 -> 特定 | W11: =取説・目次!I46 -> 29 | Z11: 第 | AA11: =取説・目次!J46 -> 1 | AE11: 号 | AF11: =取説・目次!G47 -> 44383 | AS11: 工事名称 及び 工事内容 | AY11: =H16 -> ○○○○○○工事 | DA11: 鋼構造物
DA12: 鉄筋
H13: =取説・目次!G48 -> 0 | O13: 工事業 | R13: =取説・目次!G49 -> 0 | T13: =取説・目次!H49 -> 0 | W13: =取説・目次!I49 -> 0 | Z13: 第 | AA13: =取説・目次!J49 -> 0 | AE13: 号 | AF13: =取説・目次!G50 -> 0 | AY13: =取説・目次!AS28 -> 0 | DA13: ほ装
AS14: 工期 | AY14: 自 | BA14: =取説・目次!AS26 -> 0 | BN14: 契約日 | DA14: しゅんせつ
BU15: =取説・目次!AS25 -> 0 | DA15: 板金
B16: 工事名称 及び 工事内容 | H16: =取説・目次!G15 -> ○○○○○○工事 | AY16: 至 | BA16: =取説・目次!AV26 -> 0 | DA16: ガラス
H17: =取説・目次!G17 -> RC造○階建て○○○改修○○○㎡ | DA17: 塗装
H18: =取説・目次!G18 -> ○○工事一式、○○工事一式 | AS18: 建設業の 許可 | AY18: 施工に必要な許可業種 | BI18: 許 可 番 号 | BW18: 許可（更新）年月日 | DA18: 防水
B19: 発注者名 及び 住所 | H19: =IF(取説・目次!G37="甲府地区広域行政事務組合","甲府地区広域行政事務組合 ","")&IF(取説・目次!G37="甲府地区広域行政事務組合","管理者 ","甲府市長 ")&取説・目次!G36 -> 甲府市長 樋口 雄一 | DA19: 内装仕上
BI20: =RIGHT(取説・目次!AS22,2) | BK20: =取説・目次!AS23 -> 0 | BN20: =取説・目次!AT23 -> 0 | BQ20: 第 | BR20: =取説・目次!AV23 -> 0 | BV20: 号 | BW20: =取説・目次!AS24 -> 0 | DA20: 機械器具設置
H21: 甲府市丸の内一丁目１８番１号 | DA21: 熱絶縁
B22: 工期 | H22: 自 | J22: =取説・目次!G21 -> 44288 | W22: 契約日 | AC22: =取説・目次!G20 -> 44287 | BQ22: 第 | BV22: 号 | DA22: 電気通信
DA23: 造園
H24: 至 | J24: =取説・目次!G22 -> 44289 | DA24: さく井
AS25: 健康保険等の加入状況 | AZ25: 保険加入の有無 | BE25: 健康保険 | BO25: 厚生年金保険 | BX25: 雇用保険 | DA25: 建具
B26: 契約 営業所 | I26: 区分 | N26: 名 称 | AC26: 住 所 | DA26: 水道施設
BE27: 加入 | BO27: 加入 | BX27: 加入 | DA27: 消防施設
I28: 元請契約 | N28: =取説・目次!G53 -> 株式会社 甲府工務店 | AC28: =取説・目次!G54 -> 甲府市○-○-○ | DA28: 掃施設
AY29: 事業所 整理記号等 | BE29: 営業所の名称 | BL29: 健康保険 | BT29: 厚生年金保険 | CA29: 雇用保険 | DA29: 解体
I30: 下請契約 | N30: =取説・目次!G58 -> 同上 | AC30: =取説・目次!G59 -> 同上
B33: 健康保険等の加入状況 | I33: 保険加入の有無 | N33: 健康保険 | X33: 厚生年金保険 | AG33: 雇用保険
AR34: 現場代理人名 | BM34: 安全衛生責任者名 | BV34: =取説・目次!AS31 -> 0
N35: =取説・目次!G55 -> 加入 | X35: =取説・目次!G56 -> 加入 | AG35: =取説・目次!G57 -> 加入
AT36: 権限及び 意見申出方法 | BM36: 安全衛生推進者名
H37: 事業所 整理記号等 | N37: 区分 | R37: 営業所の名称 | Y37: 健康保険 | AE37: 厚生年金保険 | AK37: 雇用保険
AR38: 主任技術者名 | BD38: =取説・目次!AS29 -> 0 | BM38: 雇用管理責任者名
N39: 元請契約 | R39: =取説・目次!G53 -> 株式会社 甲府工務店 | Y39: =取説・目次!I55 -> 甲あああ8888 | AE39: =取説・目次!I56 -> 甲ううう7777 | AK39: =取説・目次!I57 -> 12345-67890-123
AT40: 資格内容 | BM40: 専門技術者名 | BV40: =取説・目次!AS32 -> 0
N41: 下請契約 | R41: =取説・目次!G58 -> 同上 | Y41: =取説・目次!I60 -> 同上 | AE41: =取説・目次!I61 -> 同上 | AK41: =取説・目次!I62 -> 同上
BO42: 資格内容
...

Sheet ⑤A
K1: 請負工事一部下請負届 | BC1: 取説・目次へ戻る
AK2: =材料承諾願!I2 -> (建築工)契約第000001号
AM3: 令和 | AR3: 年 | AV3: 月 | AZ3: 日
B4: =IF(取説・目次!G37="甲府地区広域行政事務組合","(あて先）甲府地区広域行政事務組合 管理者","（あて先）甲 府 市 長") -> （あて先）甲 府 市 長
Z6: 請負者 | AE6: 住 所 | AI6: =材料承諾願!H9 -> 甲府市○-○-○
AE8: 氏 名 | AI8: =材料承諾願!H10 -> 株式会社 甲府工務店
AI9: =材料承諾願!H11 -> 代表取締役 甲府 太郎 | AY9: ㊞
B11: 工事名 | M11: =材料承諾願!F16 -> ○○○○○○工事
B12: 工事場所 | M12: =材料承諾願!F18 -> 甲府市○○-○-○
B13: 契約年月日 | M13: =材料承諾願!F20 -> 44287
B14: 工期 | P14: 着工 | U14: =材料承諾願!F22 -> 44288
P15: 完成 | U15: =材料承諾願!F24 -> 44289
B16: 請負代金額 | U16: =材料承諾願!F26 -> 88888888 | AM16: 円
B17: 下請負者 | N17: 住所 | Z17: =取説・目次!AS17 -> 0
N18: 氏名 | Z18: =取説・目次!AS15 -> 0
Z19: =取説・目次!AS18&" "&取説・目次!AS20
N20: 建設業許可番号 | Z20: =取説・目次!AS22&"許可"&IF(取説・目次!AS23="特定","（特-",IF(取説・目次!AS23="一般","（般-",))&取説・目次!AT23&"）第"&取説・目次!AV23&"号" -> 許可）第号
B21: 下請負の範囲 | N21: =取説・目次!AS28 -> 0
B22: 下請負の理由
B23: 下請負工事金額 | U23: =取説・目次!AS27 -> 0 | AK23: 円
D24: =材料承諾願!E46 -> 教育部 教育総室 教育施設課 | AK24: 摘 要
A27: 監督員 | L27: 係 長 | X27: 課 長
A35: =IF(D24="甲府地区広域行政事務組合","甲府地区広域行政事務組合","契約管財室 指導検査課") -> 契約管財室 指導検査課 | O35: =IF(D24="甲府地区広域行政事務組合","甲府地区広域行政事務組合","総務部 契約管財室 契約課") -> 総務部 契約管財室 契約課
A38: 係 長 | H38: 課 長 | O38: 担当者 | V38: 係 長 | AC38: 課 長
AQ46: 第16号様式

Sheet ⑥
B1: 様式－１６（１） | AE1: 令和 | AH1: 年 | AK1: 月 | AN1: 日 | AS1: 様式－１６（２） | CG1: 取説・目次へ戻る | DA1: 土木
DA2: 建築
A3: 施工体制台帳 | AR3: 《下請負人に関する事項》 | DA3: 大工
DA4: 左官
B5: ［会社名］ | H5: =取説・目次!G25 -> 株式会社 甲府工務店 | AS5: 会社名 | AY5: =取説・目次!Q36 -> 0 | BN5: 代表者名 | BT5: =取説・目次!Q41 -> 0 | DA5: とび・土工
DA6: 石
B7: ［事業所名］ | H7: =取説・目次!G43 -> ○○建設甲府営業所 | DA7: 屋根
AS8: 住所 | AY8: =取説・目次!Q38 -> 0 | DA8: 電気
B9: 建設業の 許可 | H9: 許 可 業 種 | R9: 許 可 番 号 | AF9: 許可（更新）年月日 | DA9: 管
DA10: タイル・れんが・ブロック
H11: =取説・目次!G45 -> 土木 | O11: 工事業 | R11: =取説・目次!G46 -> 大臣 | T11: =取説・目次!H46 -> 特定 | W11: =取説・目次!I46 -> 29 | Z11: 第 | AA11: =取説・目次!J46 -> 1 | AE11: 号 | AF11: =取説・目次!G47 -> 44383 | AS11: 工事名称 及び 工事内容 | AY11: =H16 -> ○○○○○○工事 | DA11: 鋼構造物
DA12: 鉄筋
H13: =取説・目次!G48 -> 0 | O13: 工事業 | R13: =取説・目次!G49 -> 0 | T13: =取説・目次!H49 -> 0 | W13: =取説・目次!I49 -> 0 | Z13: 第 | AA13: =取説・目次!J49 -> 0 | AE13: 号 | AF13: =取説・目次!G50 -> 0 | AY13: =取説・目次!Q49 -> 0 | DA13: ほ装
AS14: 工期 | AY14: 自 | BA14: =取説・目次!Q47 -> 0 | BN14: 契約日 | DA14: しゅんせつ
BU15: =取説・目次!Q46 -> 0 | DA15: 板金
B16: 工事名称 及び 工事内容 | H16: =取説・目次!G15 -> ○○○○○○工事 | AY16: 至 | BA16: =取説・目次!T47 -> 0 | DA16: ガラス
H17: =取説・目次!G17 -> RC造○階建て○○○改修○○○㎡ | DA17: 塗装
H18: =取説・目次!G18 -> ○○工事一式、○○工事一式 | AS18: 建設業の 許可 | AY18: 施工に必要な許可業種 | BI18: 許 可 番 号 | BW18: 許可（更新）年月日 | DA18: 防水
B19: 発注者名 及び 住所 | H19: =IF(取説・目次!G37="甲府地区広域行政事務組合","甲府地区広域行政事務組合 ","")&IF(取説・目次!G37="甲府地区広域行政事務組合","管理者 ","甲府市長 ")&取説・目次!G36 -> 甲府市長 樋口 雄一 | DA19: 内装仕上
BI20: =RIGHT(取説・目次!Q43,2) | BK20: =取説・目次!Q44 -> 0 | BN20: =取説・目次!R44 -> 0 | BQ20: 第 | BR20: =取説・目次!T44 -> 0 | BV20: 号 | BW20: =取説・目次!Q45 -> 0 | DA20: 機械器具設置
H21: 甲府市丸の内一丁目１８番１号 | DA21: 熱絶縁
B22: 工期 | H22: 自 | J22: =取説・目次!G21 -> 44288 | W22: 契約日 | AC22: =取説・目次!G20 -> 44287 | BQ22: 第 | BV22: 号 | DA22: 電気通信
DA23: 造園
H24: 至 | J24: =取説・目次!G22 -> 44289 | DA24: さく井
AS25: 健康保険等の加入状況 | AZ25: 保険加入の有無 | BE25: 健康保険 | BO25: 厚生年金保険 | BX25: 雇用保険 | DA25: 建具
B26: 契約 営業所 | I26: 区分 | N26: 名 称 | AC26: 住 所 | DA26: 水道施設
BE27: 加入 | BO27: 加入 | BX27: 加入 | DA27: 消防施設
I28: 元請契約 | N28: =取説・目次!G53 -> 株式会社 甲府工務店 | AC28: =取説・目次!G54 -> 甲府市○-○-○ | DA28: 掃施設
AY29: 事業所 整理記号等 | BE29: 営業所の名称 | BL29: 健康保険 | BT29: 厚生年金保険 | CA29: 雇用保険 | DA29: 解体
I30: 下請契約 | N30: =取説・目次!G58 -> 同上 | AC30: =取説・目次!G59 -> 同上
B33: 健康保険等の加入状況 | I33: 保険加入の有無 | N33: 健康保険 | X33: 厚生年金保険 | AG33: 雇用保険
AR34: 現場代理人名 | BM34: 安全衛生責任者名 | BV34: =取説・目次!Q52 -> 0
N35: =取説・目次!G55 -> 加入 | X35: =取説・目次!G56 -> 加入 | AG35: =取説・目次!G57 -> 加入
AT36: 権限及び 意見申出方法 | BM36: 安全衛生推進者名
H37: 事業所 整理記号等 | N37: 区分 | R37: 営業所の名称 | Y37: 健康保険 | AE37: 厚生年金保険 | AK37: 雇用保険
AR38: 主任技術者名 | BD38: =取説・目次!Q50 -> 0 | BM38: 雇用管理責任者名
N39: 元請契約 | R39: =取説・目次!G53 -> 株式会社 甲府工務店 | Y39: =取説・目次!I55 -> 甲あああ8888 | AE39: =取説・目次!I56 -> 甲ううう7777 | AK39: =取説・目次!I57 -> 12345-67890-123
AT40: 資格内容 | BM40: 専門技術者名 | BV40: =取説・目次!Q53 -> 0
N41: 下請契約 | R41: =取説・目次!G58 -> 同上 | Y41: =取説・目次!I60 -> 同上 | AE41: =取説・目次!I61 -> 同上 | AK41: =取説・目次!I62 -> 同上
BO42: 資格内容
...

Sheet ⑥A
K1: 請負工事一部下請負届 | BC1: 取説・目次へ戻る
AK2: =材料承諾願!I2 -> (建築工)契約第000001号
AM3: 令和 | AR3: 年 | AV3: 月 | AZ3: 日
B4: =IF(取説・目次!G37="甲府地区広域行政事務組合","(あて先）甲府地区広域行政事務組合 管理者","（あて先）甲 府 市 長") -> （あて先）甲 府 市 長
Z6: 請負者 | AE6: 住 所 | AI6: =材料承諾願!H9 -> 甲府市○-○-○
AE8: 氏 名 | AI8: =材料承諾願!H10 -> 株式会社 甲府工務店
AI9: =材料承諾願!H11 -> 代表取締役 甲府 太郎 | AY9: ㊞
B11: 工事名 | M11: =材料承諾願!F16 -> ○○○○○○工事
B12: 工事場所 | M12: =材料承諾願!F18 -> 甲府市○○-○-○
B13: 契約年月日 | M13: =材料承諾願!F20 -> 44287
B14: 工期 | P14: 着工 | U14: =材料承諾願!F22 -> 44288
P15: 完成 | U15: =材料承諾願!F24 -> 44289
B16: 請負代金額 | U16: =材料承諾願!F26 -> 88888888 | AM16: 円
B17: 下請負者 | N17: 住所 | Z17: =取説・目次!Q38 -> 0
N18: 氏名 | Z18: =取説・目次!Q36 -> 0
Z19: =取説・目次!Q39&" "&取説・目次!Q41
N20: 建設業許可番号 | Z20: =取説・目次!Q43&"許可"&IF(取説・目次!Q44="特定","（特-",IF(取説・目次!Q44="一般","（般-",))&取説・目次!R44&"）第"&取説・目次!T44&"号" -> 許可）第号
B21: 下請負の範囲 | N21: =取説・目次!Q49 -> 0
B22: 下請負の理由
B23: 下請負工事金額 | U23: =取説・目次!Q48 -> 0 | AK23: 円
D24: =材料承諾願!E46 -> 教育部 教育総室 教育施設課 | AK24: 摘 要
A27: 監督員 | L27: 係 長 | X27: 課 長
A35: =IF(D24="甲府地区広域行政事務組合","甲府地区広域行政事務組合","契約管財室 指導検査課") -> 契約管財室 指導検査課 | O35: =IF(D24="甲府地区広域行政事務組合","甲府地区広域行政事務組合","総務部 契約管財室 契約課") -> 総務部 契約管財室 契約課
A38: 係 長 | H38: 課 長 | O38: 担当者 | V38: 係 長 | AC38: 課 長
AQ46: 第16号様式

Sheet ⑦
B1: 様式－１６（１） | AE1: 令和 | AH1: 年 | AK1: 月 | AN1: 日 | AS1: 様式－１６（２） | CG1: 取説・目次へ戻る | DA1: 土木
DA2: 建築
A3: 施工体制台帳 | AR3: 《下請負人に関する事項》 | DA3: 大工
DA4: 左官
B5: ［会社名］ | H5: =取説・目次!G25 -> 株式会社 甲府工務店 | AS5: 会社名 | AY5: =取説・目次!X36 -> 0 | BN5: 代表者名 | BT5: =取説・目次!X41 -> 0 | DA5: とび・土工
DA6: 石
B7: ［事業所名］ | H7: =取説・目次!G43 -> ○○建設甲府営業所 | DA7: 屋根
AS8: 住所 | AY8: =取説・目次!X38 -> 0 | DA8: 電気
B9: 建設業の 許可 | H9: 許 可 業 種 | R9: 許 可 番 号 | AF9: 許可（更新）年月日 | DA9: 管
DA10: タイル・れんが・ブロック
H11: =取説・目次!G45 -> 土木 | O11: 工事業 | R11: =取説・目次!G46 -> 大臣 | T11: =取説・目次!H46 -> 特定 | W11: =取説・目次!I46 -> 29 | Z11: 第 | AA11: =取説・目次!J46 -> 1 | AE11: 号 | AF11: =取説・目次!G47 -> 44383 | AS11: 工事名称 及び 工事内容 | AY11: =H16 -> ○○○○○○工事 | DA11: 鋼構造物
DA12: 鉄筋
H13: =取説・目次!G48 -> 0 | O13: 工事業 | R13: =取説・目次!G49 -> 0 | T13: =取説・目次!H49 -> 0 | W13: =取説・目次!I49 -> 0 | Z13: 第 | AA13: =取説・目次!J49 -> 0 | AE13: 号 | AF13: =取説・目次!G50 -> 0 | AY13: =取説・目次!X49 -> 0 | DA13: ほ装
AS14: 工期 | AY14: 自 | BA14: =取説・目次!X47 -> 0 | BN14: 契約日 | DA14: しゅんせつ
BU15: =取説・目次!AE46 -> 0 | DA15: 板金
B16: 工事名称 及び 工事内容 | H16: =取説・目次!G15 -> ○○○○○○工事 | AY16: 至 | BA16: =取説・目次!AA47 -> 0 | DA16: ガラス
H17: =取説・目次!G17 -> RC造○階建て○○○改修○○○㎡ | DA17: 塗装
H18: =取説・目次!G18 -> ○○工事一式、○○工事一式 | AS18: 建設業の 許可 | AY18: 施工に必要な許可業種 | BI18: 許 可 番 号 | BW18: 許可（更新）年月日 | DA18: 防水
B19: 発注者名 及び 住所 | H19: =IF(取説・目次!G37="甲府地区広域行政事務組合","甲府地区広域行政事務組合 ","")&IF(取説・目次!G37="甲府地区広域行政事務組合","管理者 ","甲府市長 ")&取説・目次!G36 -> 甲府市長 樋口 雄一 | DA19: 内装仕上
BI20: =RIGHT(取説・目次!X43,2) | BK20: =取説・目次!X44 -> 0 | BN20: =取説・目次!Y44 -> 0 | BQ20: 第 | BR20: =取説・目次!AA44 -> 0 | BV20: 号 | BW20: =取説・目次!X45 -> 0 | DA20: 機械器具設置
H21: 甲府市丸の内一丁目１８番１号 | DA21: 熱絶縁
B22: 工期 | H22: 自 | J22: =取説・目次!G21 -> 44288 | W22: 契約日 | AC22: =取説・目次!G20 -> 44287 | BQ22: 第 | BV22: 号 | DA22: 電気通信
DA23: 造園
H24: 至 | J24: =取説・目次!G22 -> 44289 | DA24: さく井
AS25: 健康保険等の加入状況 | AZ25: 保険加入の有無 | BE25: 健康保険 | BO25: 厚生年金保険 | BX25: 雇用保険 | DA25: 建具
B26: 契約 営業所 | I26: 区分 | N26: 名 称 | AC26: 住 所 | DA26: 水道施設
BE27: 加入 | BO27: 加入 | BX27: 加入 | DA27: 消防施設
I28: 元請契約 | N28: =取説・目次!G53 -> 株式会社 甲府工務店 | AC28: =取説・目次!G54 -> 甲府市○-○-○ | DA28: 掃施設
AY29: 事業所 整理記号等 | BE29: 営業所の名称 | BL29: 健康保険 | BT29: 厚生年金保険 | CA29: 雇用保険 | DA29: 解体
I30: 下請契約 | N30: =取説・目次!G58 -> 同上 | AC30: =取説・目次!G59 -> 同上
B33: 健康保険等の加入状況 | I33: 保険加入の有無 | N33: 健康保険 | X33: 厚生年金保険 | AG33: 雇用保険
AR34: 現場代理人名 | BM34: 安全衛生責任者名 | BV34: =取説・目次!X52 -> 0
N35: =取説・目次!G55 -> 加入 | X35: =取説・目次!G56 -> 加入 | AG35: =取説・目次!G57 -> 加入
AT36: 権限及び 意見申出方法 | BM36: 安全衛生推進者名
H37: 事業所 整理記号等 | N37: 区分 | R37: 営業所の名称 | Y37: 健康保険 | AE37: 厚生年金保険 | AK37: 雇用保険
AR38: 主任技術者名 | BD38: =取説・目次!X50 -> 0 | BM38: 雇用管理責任者名
N39: 元請契約 | R39: =取説・目次!G53 -> 株式会社 甲府工務店 | Y39: =取説・目次!I55 -> 甲あああ8888 | AE39: =取説・目次!I56 -> 甲ううう7777 | AK39: =取説・目次!I57 -> 12345-67890-123
AT40: 資格内容 | BM40: 専門技術者名 | BV40: =取説・目次!X53 -> 0
N41: 下請契約 | R41: =取説・目次!G58 -> 同上 | Y41: =取説・目次!I60 -> 同上 | AE41: =取説・目次!I61 -> 同上 | AK41: =取説・目次!I62 -> 同上
BO42: 資格内容
...

Sheet ⑦A
K1: 請負工事一部下請負届 | BC1: 取説・目次へ戻る
AK2: =材料承諾願!I2 -> (建築工)契約第000001号
AM3: 令和 | AR3: 年 | AV3: 月 | AZ3: 日
B4: =IF(取説・目次!G37="甲府地区広域行政事務組合","(あて先）甲府地区広域行政事務組合 管理者","（あて先）甲 府 市 長") -> （あて先）甲 府 市 長
Z6: 請負者 | AE6: 住 所 | AI6: =材料承諾願!H9 -> 甲府市○-○-○
AE8: 氏 名 | AI8: =材料承諾願!H10 -> 株式会社 甲府工務店
AI9: =材料承諾願!H11 -> 代表取締役 甲府 太郎 | AY9: ㊞
B11: 工事名 | M11: =材料承諾願!F16 -> ○○○○○○工事
B12: 工事場所 | M12: =材料承諾願!F18 -> 甲府市○○-○-○
B13: 契約年月日 | M13: =材料承諾願!F20 -> 44287
B14: 工期 | P14: 着工 | U14: =材料承諾願!F22 -> 44288
P15: 完成 | U15: =材料承諾願!F24 -> 44289
B16: 請負代金額 | U16: =材料承諾願!F26 -> 88888888 | AM16: 円
B17: 下請負者 | N17: 住所 | Z17: =取説・目次!X38 -> 0
N18: 氏名 | Z18: =取説・目次!X36 -> 0
Z19: =取説・目次!X39&" "&取説・目次!X41
N20: 建設業許可番号 | Z20: =取説・目次!X43&"許可"&IF(取説・目次!X44="特定","（特-",IF(取説・目次!X44="一般","（般-",))&取説・目次!Y44&"）第"&取説・目次!AA44&"号" -> 許可）第号
B21: 下請負の範囲 | N21: =取説・目次!X49 -> 0
B22: 下請負の理由
B23: 下請負工事金額 | U23: =取説・目次!X48 -> 0 | AK23: 円
D24: =材料承諾願!E46 -> 教育部 教育総室 教育施設課 | AK24: 摘 要
A27: 監督員 | L27: 係 長 | X27: 課 長
A35: =IF(D24="甲府地区広域行政事務組合","甲府地区広域行政事務組合","契約管財室 指導検査課") -> 契約管財室 指導検査課 | O35: =IF(D24="甲府地区広域行政事務組合","甲府地区広域行政事務組合","総務部 契約管財室 契約課") -> 総務部 契約管財室 契約課
A38: 係 長 | H38: 課 長 | O38: 担当者 | V38: 係 長 | AC38: 課 長
AQ46: 第16号様式

Sheet ⑧
B1: 様式－１６（１） | AE1: 令和 | AH1: 年 | AK1: 月 | AN1: 日 | AS1: 様式－１６（２） | CG1: 取説・目次へ戻る | DA1: 土木
DA2: 建築
A3: 施工体制台帳 | AR3: 《下請負人に関する事項》 | DA3: 大工
DA4: 左官
B5: ［会社名］ | H5: =取説・目次!G25 -> 株式会社 甲府工務店 | AS5: 会社名 | AY5: =取説・目次!AE36 -> 0 | BN5: 代表者名 | BT5: =取説・目次!AE41 -> 0 | DA5: とび・土工
DA6: 石
B7: ［事業所名］ | H7: =取説・目次!G43 -> ○○建設甲府営業所 | DA7: 屋根
AS8: 住所 | AY8: =取説・目次!AE38 -> 0 | DA8: 電気
B9: 建設業の 許可 | H9: 許 可 業 種 | R9: 許 可 番 号 | AF9: 許可（更新）年月日 | DA9: 管
DA10: タイル・れんが・ブロック
H11: =取説・目次!G45 -> 土木 | O11: 工事業 | R11: =取説・目次!G46 -> 大臣 | T11: =取説・目次!H46 -> 特定 | W11: =取説・目次!I46 -> 29 | Z11: 第 | AA11: =取説・目次!J46 -> 1 | AE11: 号 | AF11: =取説・目次!G47 -> 44383 | AS11: 工事名称 及び 工事内容 | AY11: =H16 -> ○○○○○○工事 | DA11: 鋼構造物
DA12: 鉄筋
H13: =取説・目次!G48 -> 0 | O13: 工事業 | R13: =取説・目次!G49 -> 0 | T13: =取説・目次!H49 -> 0 | W13: =取説・目次!I49 -> 0 | Z13: 第 | AA13: =取説・目次!J49 -> 0 | AE13: 号 | AF13: =取説・目次!G50 -> 0 | AY13: =取説・目次!AE49 -> 0 | DA13: ほ装
AS14: 工期 | AY14: 自 | BA14: =取説・目次!AE47 -> 0 | BN14: 契約日 | DA14: しゅんせつ
BU15: =取説・目次!AE46 -> 0 | DA15: 板金
B16: 工事名称 及び 工事内容 | H16: =取説・目次!G15 -> ○○○○○○工事 | AY16: 至 | BA16: =取説・目次!AH47 -> 0 | DA16: ガラス
H17: =取説・目次!G17 -> RC造○階建て○○○改修○○○㎡ | DA17: 塗装
H18: =取説・目次!G18 -> ○○工事一式、○○工事一式 | AS18: 建設業の 許可 | AY18: 施工に必要な許可業種 | BI18: 許 可 番 号 | BW18: 許可（更新）年月日 | DA18: 防水
B19: 発注者名 及び 住所 | H19: =IF(取説・目次!G37="甲府地区広域行政事務組合","甲府地区広域行政事務組合 ","")&IF(取説・目次!G37="甲府地区広域行政事務組合","管理者 ","甲府市長 ")&取説・目次!G36 -> 甲府市長 樋口 雄一 | DA19: 内装仕上
BI20: =RIGHT(取説・目次!AE43,2) | BK20: =取説・目次!AE44 -> 0 | BN20: =取説・目次!AF44 -> 0 | BQ20: 第 | BR20: =取説・目次!AH44 -> 0 | BV20: 号 | BW20: =取説・目次!AE45 -> 0 | DA20: 機械器具設置
H21: 甲府市丸の内一丁目１８番１号 | DA21: 熱絶縁
B22: 工期 | H22: 自 | J22: =取説・目次!G21 -> 44288 | W22: 契約日 | AC22: =取説・目次!G20 -> 44287 | BQ22: 第 | BV22: 号 | DA22: 電気通信
DA23: 造園
H24: 至 | J24: =取説・目次!G22 -> 44289 | DA24: さく井
AS25: 健康保険等の加入状況 | AZ25: 保険加入の有無 | BE25: 健康保険 | BO25: 厚生年金保険 | BX25: 雇用保険 | DA25: 建具
B26: 契約 営業所 | I26: 区分 | N26: 名 称 | AC26: 住 所 | DA26: 水道施設
BE27: 加入 | BO27: 加入 | BX27: 加入 | DA27: 消防施設
I28: 元請契約 | N28: =取説・目次!G53 -> 株式会社 甲府工務店 | AC28: =取説・目次!G54 -> 甲府市○-○-○ | DA28: 掃施設
AY29: 事業所 整理記号等 | BE29: 営業所の名称 | BL29: 健康保険 | BT29: 厚生年金保険 | CA29: 雇用保険 | DA29: 解体
I30: 下請契約 | N30: =取説・目次!G58 -> 同上 | AC30: =取説・目次!G59 -> 同上
B33: 健康保険等の加入状況 | I33: 保険加入の有無 | N33: 健康保険 | X33: 厚生年金保険 | AG33: 雇用保険
AR34: 現場代理人名 | BM34: 安全衛生責任者名 | BV34: =取説・目次!AE52 -> 0
N35: =取説・目次!G55 -> 加入 | X35: =取説・目次!G56 -> 加入 | AG35: =取説・目次!G57 -> 加入
AT36: 権限及び 意見申出方法 | BM36: 安全衛生推進者名
H37: 事業所 整理記号等 | N37: 区分 | R37: 営業所の名称 | Y37: 健康保険 | AE37: 厚生年金保険 | AK37: 雇用保険
